Workbook

Sheet 숏클립(전체)
B1: ■ 선정자 리스트 (2022년 소상공인 민관협업교육(네이버))
B2: No. | C2: 교육 희망지역 | D2: 사업체개요 | L2: 스토어현황 | P2: 라이브커머스 경험 | R2: 판매상품정보 | U2: 연락처 | X2: 교육수요 | Z2: 평가결과 | AB2: 서류제출 | AG2: 기타 | AI2: 비고
D3: 업체명 | E3: 대표자 | F3: 사업자번호 | G3: 소재지 | I3: 상세주소 | J3: 업종업태 | K3: 상시 근로자(명) | L3: 링크 | M3: 등급 | N3: 매출 (1~7월; 단위: 만원) | O3: 찜수(개) | P3: 유/무 | Q3: 채널/영상 | R3: 제품명 | S3: 제품분류 | T3: 사이트링크 | U3: 대표자 | V3: 비상연락망 | W3: 이메일 | X3: 희망지역 | Y3: 희망시간 | Z3: 점수 | AA3: 순위 | AB3: 사업자 | AC3: 소상공인 | AD3: 국세 | AE3: 지방세 | AF3: 동의서 | AG3: 분반 | AH3: 진행현황
G4: 특별시·도 | H4: 시·군·구
B5: 선정자 (서류평가 대상) * 지역+평가점수순
B6: 12 | C6: 서울 | D6: ROOG | E6: 정용환 | F6: 766-42-00696 | G6: 서울특별시 | H6: 구로구 | I6: (08306) 서울특별시 구로구 가마산로 242 (구로동, 희망재단) 4층 | J6: 도매 및 소매업 | K6: 0 | L6: https://smartstore.naver.com/roog | M6: 빅파워 | N6: 14363 | O6: 1068 | P6: X | R6: 흑마늘즙 | S6: 푸드 | T6: https://smartstore.naver.com/roog/products/5795104772 | U6: 010-5097-0227 | V6: 010-5112-3310 | W6: business.roog@gmail.com | X6: 서울 | Y6: 오전 | Z6: 85.5 | AA6: 1 | AG6: =IFERROR(IF(VLOOKUP('숏클립(전체)'!D6,#REF!,1,FALSE)=D6,"A반"),"B반") -> B반 | AH6: 포기신청 | AI6: 사업포기
B7: 37 | C7: 서울 | D7: 꿈드림 | E7: 이윤재 | F7: 566-87-00156 | G7: 경기도 | H7: 김포시 | I7: (10009) 경기도 김포시 통진읍 귀전로56번길 187 (통진읍) 농업회사법인(주)꿈드림 | J7: 제조업 | K7: 3 | L7: https://smartstore.naver.com/kkumdream | M7: 빅파워 | N7: 6255 | O7: 1301 | P7: O | R7: 꿈목장 저온살균 A2우유 | S7: 푸드 | T7: https://smartstore.naver.com/kkumdream/products/5364539743 | U7: 010-5236-5352 | V7: 070-8806-5352 | W7: dream14242@naver.com | X7: 서울 | Y7: 오후 | Z7: 84.5 | AA7: 2 | AB7: 참여o, 6시까지 | AG7: =IFERROR(IF(VLOOKUP('숏클립(전체)'!D7,#REF!,1,FALSE)=D7,"A반"),"B반") -> B반 | AH7: 참여희망 | AI7: 교육참석 (A반)
B8: 1 | C8: 서울 | D8: 나실패밀리 | E8: 서영원 | F8: 450-81-01770 | G8: 경기도 | H8: 부천시 | I8: (14662) 경기도 부천시 부일로 635 (역곡동, 부일빌딩) 2층, 3층 | J8: 제조업 | K8: 9 | L8: https://smartstore.naver.com/nasilfamily | M8: 빅파워 | N8: 37500 | O8: 25653 | P8: O | Q8: https://view.shoppinglive.naver.com/replays/647345?fm=shoppinglive&sn=home | R8: 트리플에스 샴푸 | S8: 뷰티 | T8: https://smartstore.naver.com/nasilfamily/products/5035409673 | U8: 010-8952-6936 | V8: 010-2137-3641 | W8: master@nasilfamily.com | X8: 서울 | Y8: 오후 | Z8: 83 | AA8: 3 | AB8: ㅇ | AC8: ㅇ | AD8: ㅇ | AE8: ㅇ | AF8: 재제출요청 | AG8: =IFERROR(IF(VLOOKUP('숏클립(전체)'!D8,#REF!,1,FALSE)=D8,"A반"),"B반") -> B반 | AH8: 보완중
B9: 69 | C9: 서울 | D9: 노씽 | E9: 이훈구 | F9: 779-86-02336 | G9: 경기도 | H9: 부천시 | I9: (14451) 경기도 부천시 삼정동 203-5 3층 (주)노씽 | J9: 제조업 | K9: 5 | L9: https://smartstore.naver.com/sscm | M9: 빅파워 | N9: 36400 | O9: 5099 | P9: X | R9: 발받침대 | S9: 라이프 | T9: https://smartstore.naver.com/sscm/products/5761936548 | U9: 010-3238-7142 | V9: - | W9: nothingwood@naver.com | X9: 서울 | Y9: 오전 | Z9: 81.25 | AA9: 4 | AB9: 참여o, 6시까지 | AG9: =IFERROR(IF(VLOOKUP('숏클립(전체)'!D9,#REF!,1,FALSE)=D9,"A반"),"B반") -> B반 | AH9: 참여희망 | AI9: 교육불참 (B반)
B10: 41 | C10: 서울 | D10: 뉴팜바이오 | E10: 이정석 | F10: 204-23-24772 | G10: 서울특별시 | H10: 관악구 | I10: (08743) 서울특별시 관악구 은천로 134 (봉천동, 디앤씨타운) B동 101호 | J10: 도매 및 소매업 | K10: 2 | L10: https://smartstore.naver.com/helperjang | M10: 파워 | N10: 3500 | O10: 5755 | P10: O | Q10: https://shoppinglive.naver.com/replays/485499?fm=shoppinglive&sn=home | R10: 강아지 고양이 유산균, 영양제 | S10: 라이프 | T10: https://smartstore.naver.com/helperjang/products/4659569212 | U10: 010-7999-9542 | V10: 070-8779-7007 | W10: nprobio@naver.com | X10: 서울 | Y10: 오전 | Z10: 80.5 | AA10: 5 | AB10: ㅇ | AC10: ㅇ | AD10: ㅇ | AE10: ㅇ | AF10: ㅇ | AG10: =IFERROR(IF(VLOOKUP('숏클립(전체)'!D10,#REF!,1,FALSE)=D10,"A반"),"B반") -> B반 | AH10: 검토완료 | AI10: 대표자 이정석, 신청당시 담당자 이름으로 신청
B11: 31 | C11: 서울 | D11: 다다다 | E11: 권용호 | F11: 614-20-01150 | G11: 경기도 | H11: 고양시 | I11: (10550) 경기도 고양시 덕양구 삼원로2길 14-6 (삼송동) 1층 1호 | J11: 도매 및 소매업 | K11: 2 | L11: https://smartstore.naver.com/blankfill | M11: 빅파워 | N11: 3500 | O11: 6553 | P11: O | Q11: https://naver.me/G6iWjC55 | R11: 오로라 와인잔 2p 세트 | S11: 라이프 | T11: https://m.smartstore.naver.com/blankfill/products/5635924302 | U11: 010-7250-1600 | V11: 010-7250-1600 | W11: dadadasell@naver.com | X11: 서울 | Y11: 오전 | Z11: 80.25 | AA11: 6 | AG11: =IFERROR(IF(VLOOKUP('숏클립(전체)'!D11,#REF!,1,FALSE)=D11,"A반"),"B반") -> B반 | AH11: 포기신청 | AI11: 사업포기
B12: 38 | C12: 서울 | D12: 다온미트 | E12: 김서영 | F12: 851-87-00544 | G12: 서울특별시 | H12: 동대문구 | I12: (02643) 서울특별시 동대문구 장한로10길 37 (장안동) 1층 | J12: 도매 및 소매업 | K12: 4 | L12: https://smartstore.naver.com/daonmeat | M12: 빅파워 | N12: 71000 | O12: 10032 | P12: O | Q12: https://shoppinglive.naver.com/channels/86900 | R12: 삼겹살 | S12: 푸드 | T12: https://smartstore.naver.com/daonmeat/products/6056271456 | U12: 010-3483-8284 | V12: 010-6218-8284 | W12: daonmeat01@naver.com | X12: 서울 | Y12: 오전 | Z12: 79.75 | AA12: 7 | AB12: ㅇ | AC12: ㅇ | AD12: ㅇ | AE12: ㅇ | AF12: ㅇ | AG12: =IFERROR(IF(VLOOKUP('숏클립(전체)'!D12,#REF!,1,FALSE)=D12,"A반"),"B반") -> B반 | AH12: 검토완료
B13: 75 | C13: 서울 | D13: 다주드 | E13: 최윤정 | F13: 446-16-00376 | G13: 인천광역시 | H13: 부평구 | I13: (21434) 인천광역시 부평구 아트센터로 118 (십정동, 동암신동아아파트) 107-701 | J13: 도매 및 소매업 | K13: 0 | L13: https://smartstore.naver.com/dajude | M13: 파워 | N13: 2598 | O13: 9039 | P13: O | Q13: https://view.shoppinglive.naver.com/liveclips/1685498?broadcastId=616481&fm=shopping&sn=prlim&tr=prlim | R13: 목걸이,귀걸이,울장갑 등 | S13: 패션 | T13: https://smartstore.naver.com/dajude/products/3684207472 | U13: 010-3741-7345 | V13: 010-9035-6215 | W13: dajudesilver@naver.com | X13: 서울 | Y13: 오전 | Z13: 79.5 | AA13: 8 | AB13: ㅇ | AD13: ㅇ | AE13: ㅇ | AF13: ㅇ | AG13: =IFERROR(IF(VLOOKUP('숏클립(전체)'!D13,#REF!,1,FALSE)=D13,"A반"),"B반") -> B반 | AH13: 보완중 | AI13: 소상공인확인서 미제출(제출연락)
B14: 30 | C14: 서울 | D14: 달당 | E14: 양자경 | F14: 558-45-00631 | G14: 경기도 | H14: 고양시 | I14: (10349) 경기도 고양시 일산서구 탄중로 501 (일산동, 일산5차동문아파트) 상가 106호 개달당 | J14: 제조업 | K14: 1 | L14: https://smartstore.naver.com/daldange | M14: 파워 | N14: 3400 | O14: 2268 | P14: O | Q14: https://shoppinglive.naver.com/replays/152849?fm=shoppinglive&sn=home | R14: 개달당 댕나잇 누빔 베개 | S14: 라이프 | T14: https://smartstore.naver.com/daldange/products/5411514087 | U14: 010-3525-1827 | V14: 010-6378-1827 | W14: daldange@naver.com | X14: 서울 | Y14: 오전 | Z14: 79.25 | AA14: 9 | AB14: ㅇ | AC14: ㅇ | AD14: ㅇ | AE14: ㅇ | AF14: ㅇ | AG14: =IFERROR(IF(VLOOKUP('숏클립(전체)'!D14,#REF!,1,FALSE)=D14,"A반"),"B반") -> B반 | AH14: 검토완료
B15: 70 | C15: 서울 | D15: 달소금 | E15: 오수린 | F15: 567-56-00209 | G15: 경기도 | H15: 여주시 | I15: (12642) 경기도 여주시 세종대왕면 중부대로 2710-26 (세종대왕면) 달소금 | J15: 도매 및 소매업 | K15: 1 | L15: https://smartstore.naver.com/dalsogum | M15: 파워 | N15: 4668 | O15: 5434 | P15: O | Q15: https://shoppinglive.naver.com/replays/627980?fm=shoppinglive&sn=home | R15: 기획소주잔(16color) | S15: 라이프 | T15: https://smartstore.naver.com/dalsogum/products/2883953422 | U15: 010-8280-2519 | V15: 031-882-9776 | W15: osurin2519@naver.com | X15: 서울 | Y15: 오후 | Z15: 79.25 | AA15: 10 | AB15: ㅇ | AC15: ㅇ | AD15: 재제출요청 | AE15: 재제출요청 | AF15: ㅇ | AG15: =IFERROR(IF(VLOOKUP('숏클립(전체)'!D15,#REF!,1,FALSE)=D15,"A반"),"B반") -> B반 | AH15: 보완중 | AI15: 납세증명서 유효기간만료
B16: 8 | C16: 서울 | D16: 달스네가게 | E16: 신고은 | F16: 205-43-98727 | G16: 경기도 | H16: 광명시 | I16: (14287) 경기도 광명시 광명로 877 (광명동, 한진아파트) 상가 B동 3층 2310호 | J16: 도매 및 소매업 | K16: - | L16: https://smartstore.naver.com/dals | M16: 빅파워 | N16: 13513 | O16: 8768 | P16: X | R16: 실리콘 조리도구 | S16: 라이프 | T16: https://smartstore.naver.com/dals/products/4342699514 | U16: 010-9654-3598 | V16: 010-9654-3598 | W16: sbbjjang@naver.com | X16: 서울 | Y16: 오전 | Z16: 79.25 | AA16: 11 | AB16: ㅇ | AC16: ㅇ | AD16: ㅇ | AE16: ㅇ | AF16: ㅇ | AG16: =IFERROR(IF(VLOOKUP('숏클립(전체)'!D16,#REF!,1,FALSE)=D16,"A반"),"B반") -> B반 | AH16: 검토완료
B17: 48 | C17: 서울 | D17: 더마초이스 | E17: 최용석 | F17: 759-23-01060 | G17: 서울특별시 | H17: 종로구 | I17: (03129) 서울특별시 종로구 김상옥로 18-10 (연지동, 성진에스제이빌딩) 301호 | J17: 도매 및 소매업 | K17: 4 | L17: https://smartstore.naver.com/bambimed | M17: 빅파워 | N17: 58429 | O17: 14635 | P17: X | R17: 화장품 | S17: 뷰티 | T17: https://smartstore.naver.com/bambimed/products/5531159627 | U17: 010-8599-0080 | V17: 010-8599-0080 | W17: cysprime@gmail.com | X17: 서울 | Y17: 오후 | Z17: 79 | AA17: 12 | AG17: =IFERROR(IF(VLOOKUP('숏클립(전체)'!D17,#REF!,1,FALSE)=D17,"A반"),"B반") -> B반 | AH17: 포기신청 | AI17: 사업포기
B18: 15 | C18: 서울 | D18: 데리다 | E18: 정은수 | F18: 878-28-00805 | G18: 서울특별시 | H18: 관악구 | I18: (08797) 서울특별시 관악구 인헌16길 12 (봉천동) 203호 | J18: 도매 및 소매업 | K18: 0 | L18: https://smartstore.naver.com/es_shop_ | M18: 파워 | N18: 5000 | O18: 3060 | P18: X | R18: 강아지 유모차 | S18: 라이프 | T18: https://smartstore.naver.com/es_shop_/products/4744014172 | U18: 010-8908-1918 | V18: 010-8908-1918 | W18: aeunsua@naver.com | X18: 서울 | Y18: 오전 | Z18: 79 | AA18: 13 | AB18: ㅇ | AC18: ㅇ | AD18: ㅇ | AE18: ㅇ | AF18: ㅇ | AG18: =IFERROR(IF(VLOOKUP('숏클립(전체)'!D18,#REF!,1,FALSE)=D18,"A반"),"B반") -> B반 | AH18: 검토완료
B19: 27 | C19: 서울 | D19: 데이빗앤케이트 | E19: 조동귶 | F19: 108-18-85706 | G19: 서울특별시 | H19: 강남구 | I19: (06164) 서울특별시 강남구 영동대로 513 (삼성동, 코엑스) 2층 상사전시장 A05 | J19: 도매 및 소매업 | K19: 2 | L19: https://smartstore.naver.com/littlebluelamb | M19: 파워 | N19: 8000 | O19: 6971 | P19: O | Q19: https://view.shoppinglive.naver.com/replays/354557?fm=shopping&sn=bsw | R19: 키즈 스키복 & 스키장갑 | S19: 키즈 | T19: https://smartstore.naver.com/littlebluelamb/products/2260023310 | U19: 010-3899-9351 | V19: - | W19: webmaster@davidandkate.co.kr | X19: 서울 | Y19: 오후 | Z19: 79 | AA19: 14 | AB19: ㅇ | AC19: ㅇ | AD19: ㅇ | AE19: ㅇ | AF19: ㅇ | AG19: =IFERROR(IF(VLOOKUP('숏클립(전체)'!D19,#REF!,1,FALSE)=D19,"A반"),"B반") -> B반 | AH19: 검토완료
B20: 66 | C20: 서울 | D20: 데일리꼬까 | E20: 김기열 | F20: 245-33-00810 | G20: 서울특별시 | H20: 중랑구 | I20: (02155) 서울특별시 중랑구 면목로 456 (면목동, 한성빌딩) 5층42호 | J20: 도매 및 소매업 | K20: 0 | L20: https://smartstore.naver.com/ggoggamoa | M20: 파워 | N20: 5309 | O20: 5396 | P20: O | Q20: https://shoppinglive.naver.com/livebridge/342032 | R20: 스판롱부츠 | S20: 키즈 | T20: https://smartstore.naver.com/ggoggamoa/products/5155290792 | U20: 010-2950-2957 | V20: 070-8064-4549 | W20: kiori21c@naver.com | X20: 서울 | Y20: 오후 | Z20: 78.75 | AA20: 15 | AB20: ㅇ | AC20: ㅇ | AD20: ㅇ | AE20: ㅇ | AF20: ㅇ | AG20: =IFERROR(IF(VLOOKUP('숏클립(전체)'!D20,#REF!,1,FALSE)=D20,"A반"),"B반") -> B반 | AH20: 검토완료
B21: 2 | C21: 서울 | D21: 드음 | E21: 천영 | F21: 454-31-00706 | G21: 서울특별시 | H21: 강동구 | I21: (05355) 서울특별시 강동구 천호대로 1139 (길동, 강동그린타워) 976호 | J21: 제조업 | K21: 2 | L21: https://smartstore.naver.com/purmifh | M21: 빅파워 | N21: 15270 | O21: 9331 | P21: O | Q21: https://shoppinglive.naver.com/replays/500238?fm=shoppinglive&sn=home | R21: 샐러드스쿨 이코노미팩 | S21: 푸드 | T21: https://smartstore.naver.com/purmifh/products/4734820267 | U21: 010-5550-2410 | V21: 010-3956-3110 | W21: young_cheon@naver.com | X21: 서울 | Y21: 오전 | Z21: 78.75 | AA21: 16 | AB21: ㅇ | AC21: ㅇ | AD21: ㅇ | AE21: ㅇ | AF21: ㅇ | AG21: =IFERROR(IF(VLOOKUP('숏클립(전체)'!D21,#REF!,1,FALSE)=D21,"A반"),"B반") -> B반 | AH21: 검토완료
B22: 85 | C22: 서울 | D22: 디아 | E22: 서은경 | F22: 101-12-38762 | G22: 서울특별시 | H22: 종로구 | I22: (03130) 서울특별시 종로구 종로 183 (인의동, 효성주얼리시티) J2138 | J22: 도매 및 소매업 | K22: 3 | L22: https://smartstore.naver.com/dia2138 | M22: 빅파워 | N22: 14119 | O22: 22229 | P22: O | R22: 신발 | S22: 패션 | T22: ※ 준비중 | U22: 010-5023-8486 | V22: 010-5362-6863 | W22: dia2138@naver.com | X22: 서울 | Y22: 오후 | Z22: 78.75 | AA22: 17 | AB22: ㅇ | AC22: ㅇ | AD22: ㅇ | AE22: ㅇ | AF22: ㅇ | AG22: =IFERROR(IF(VLOOKUP('숏클립(전체)'!D22,#REF!,1,FALSE)=D22,"A반"),"B반") -> B반 | AH22: 검토완료
B23: 46 | C23: 서울 | D23: 르메이어 | E23: 이정훈 | F23: 501-06-65191 | G23: 경기도 | H23: 오산시 | I23: (18105) 경기도 오산시 독산성로 425 (세교동) 퍼스트타워 1006호 | J23: 도매 및 소매업 | K23: - | L23: https://smartstore.naver.com/le-meilleur | M23: 파워 | N23: 5220 | O23: 1940 | P23: X | R23: 스프링 양모볼 장난감 | S23: 취미 | T23: https://smartstore.naver.com/le-meilleur/products/7048867843 | U23: 010-6236-1130 | V23: 010-8203-9216 | W23: yoon7174@naver.com | X23: 서울 | Y23: 오후 | Z23: 78.5 | AA23: 18 | AB23: ㅇ | AC23: ㅇ | AD23: ㅇ | AE23: ㅇ | AF23: ㅇ | AG23: =IFERROR(IF(VLOOKUP('숏클립(전체)'!D23,#REF!,1,FALSE)=D23,"A반"),"B반") -> B반 | AH23: 검토완료
B24: 3 | C24: 서울 | D24: 리틀그래피 | E24: 고민서 | F24: 808-29-00462 | G24: 서울특별시 | H24: 서대문구 | I24: (03615) 서울특별시 서대문구 통일로 510 (홍은동, 북한산더샵) 107동 202호 | J24: 도매 및 소매업 | K24: 0 | L24: https://smartstore.naver.com/littlegraphy | M24: 빅파워 | N24: 15421 | O24: 6397 | P24: O | Q24: https://view.shoppinglive.naver.com/replays/540838 | R24: 메가텐 전동칫솔 | S24: 라이프 | T24: https://smartstore.naver.com/littlegraphy/products/5772547712 | U24: 010-6691-7672 | V24: 050-7722-7672 | W24: kohminseo@gmail.com | X24: 서울 | Y24: 오전 | Z24: 78.5 | AA24: 19 | AB24: ㅇ | AC24: ㅇ | AD24: ㅇ | AE24: ㅇ | AF24: ㅇ | AG24: =IFERROR(IF(VLOOKUP('숏클립(전체)'!D24,#REF!,1,FALSE)=D24,"A반"),"B반") -> B반 | AH24: 검토완료
B25: 9 | C25: 서울 | D25: 마마스스튜디오 | E25: 김화경 | F25: 120-05-54300 | G25: 서울특별시 | H25: 구로구 | I25: (08362) 서울특별시 구로구 부광로 96-5 (항동) 구로에이스캠프 지식산업센터 1010호 | J25: 제조업 | K25: - | L25: https://smartstore.naver.com/mamasstudio | M25: 파워 | N25: 2229 | O25: 5513 | P25: O | Q25: https://view.shoppinglive.naver.com/replays/100876?fm=shopping&sn=bsw | R25: 수제토분,화분 | S25: 라이프 | T25: https://smartstore.naver.com/mamasstudio/products/5368674784 | U25: 010-4746-6361 | V25: - | W25: perfume76@naver.com | X25: 서울 | Y25: 오후 | Z25: 77.75 | AA25: 20 | AB25: 참여o, 6시까지 | AG25: =IFERROR(IF(VLOOKUP('숏클립(전체)'!D25,#REF!,1,FALSE)=D25,"A반"),"B반") -> B반 | AH25: 참여희망 | AI25: 교육불참 (B반), 출석햇다고함
B26: 55 | C26: 서울 | D26: 마이비쥬 | E26: 김경은 | F26: 779-10-01540 | G26: 서울특별시 | H26: 서대문구 | I26: (03652) 서울특별시 서대문구 연희로37안길 19-26 (홍은동, 나영힐빌리지) 302호 | J26: 도매 및 소매업 | K26: - | L26: https://smartstore.naver.com/mybijouu | M26: 파워 | N26: 4684 | O26: 2490 | P26: X | R26: 실버 및 브라스 악세사리 | S26: 패션 | T26: https://smartstore.naver.com/mybijouu/products/5395322703 | U26: 010-5515-1161 | V26: 010-8211-2754 | W26: alice4979@naver.com | X26: 서울 | Y26: 오후 | Z26: 77.5 | AA26: 21 | AB26: ㅇ | AC26: ㅇ | AE26: ㅇ | AF26: ㅇ | AG26: =IFERROR(IF(VLOOKUP('숏클립(전체)'!D26,#REF!,1,FALSE)=D26,"A반"),"B반") -> B반 | AH26: 보완중
B27: 56 | C27: 서울 | D27: 멜스키친 | E27: 최나리 | F27: 837-10-00468 | G27: 경기도 | H27: 성남시 | I27: (13640) 경기도 성남시 수정구 위례광장로 104 (창곡동, 위례 한화 오벨리스크 센트럴스퀘어) 1028호 | J27: 제조업 | K27: 0 | L27: https://smartstore.naver.com/melskitchen | M27: 파워 | N27: 2895 | O27: 1588 | P27: X | R27: 무설탕수제귀리통곡물 그래놀라 | S27: 푸드 | T27: https://smartstore.naver.com/melskitchen/products/391935454 | U27: 010-6241-8494 | V27: 070-7760-2959 | W27: harubang24@naver.com | X27: 서울 | Y27: 오전 | Z27: 77.5 | AA27: 22 | AB27: ㅇ | AC27: ㅇ | AD27: ㅇ | AE27: ㅇ | AF27: ㅇ | AG27: =IFERROR(IF(VLOOKUP('숏클립(전체)'!D27,#REF!,1,FALSE)=D27,"A반"),"B반") -> B반 | AH27: 검토완료
B28: 21 | C28: 서울 | D28: 모드니펫 | E28: 이다영 | F28: 343-13-00886 | G28: 경기도 | H28: 부천시 | I28: (14786) 경기도 부천시 양지로 237 (옥길동, 광양프런티어밸리 5차) 930호 | J28: 제조업 | K28: - | L28: https://smartstore.naver.com/mo-de-ny | M28: 빅파워 | N28: 18945 | O28: 10922 | P28: O | Q28: https://view.shoppinglive.naver.com/replays/577102 | R28: 클라우드 슬링백 | S28: 라이프 | T28: https://smartstore.naver.com/mo-de-ny/products/6619512344 | U28: 010-9942-8601 | V28: 010-2604-1055 | W28: manduuu_@naver.com | X28: 서울 | Y28: 오후 | Z28: 77.5 | AA28: 23 | AB28: ㅇ | AC28: ㅇ | AD28: 재제출요청 | AE28: 재제출요청 | AF28: ㅇ | AG28: =IFERROR(IF(VLOOKUP('숏클립(전체)'!D28,#REF!,1,FALSE)=D28,"A반"),"B반") -> B반 | AH28: 보완중 | AI28: 유효기간 만료
B29: 13 | C29: 서울 | D29: 모모 | E29: 이정돈 | F29: 813-09-02028 | G29: 인천광역시 | H29: 부평구 | I29: (21368) 인천광역시 부평구 원적로269번길 15 (산곡동, 현대아파트) 102동 1703호 | J29: 도매 및 소매업 | K29: 0 | L29: https://smartstore.naver.com/movesti | M29: 빅파워 | N29: 23000 | O29: 2960 | P29: X | R29: 모베스티 요가수트 | S29: 패션 | T29: https://smartstore.naver.com/movesti/products/5924679382 | U29: 010-9044-2259 | V29: 010-3378-0706 | W29: frogtail81@naver.com | X29: 서울 | Y29: 오후 | Z29: 77.25 | AA29: 24 | AB29: ㅇ | AD29: ㅇ | AE29: ㅇ | AF29: ㅇ | AG29: =IFERROR(IF(VLOOKUP('숏클립(전체)'!D29,#REF!,1,FALSE)=D29,"A반"),"B반") -> B반 | AH29: 보완중 | AI29: 소상공인확인서 양식 잘못제출 해외출장중이라 23일에 제출하기로 승인
B30: 89 | C30: 서울 | D30: 무발연구소 | E30: 문선영 | F30: 243-86-02104 | G30: 서울특별시 | H30: 광진구 | I30: (04940) 서울특별시 광진구 용마산로26길 11 (중곡동) . | J30: 제조업 | K30: 2 | L30: https://smartstore.naver.com/mubal2 | M30: 빅파워 | N30: 25194 | O30: 5790 | P30: X | R30: 무발 기능성깔창 일반형 | S30: 라이프 | T30: https://smartstore.naver.com/mubal2/products/4836229435 | U30: 010-8314-0027 | V30: 010-6290-8170 | W30: mubal@mubal.kr | X30: 서울 | Y30: 오후 | Z30: 77.25 | AA30: 25 | AB30: 참여o, 월까지 | AG30: =IFERROR(IF(VLOOKUP('숏클립(전체)'!D30,#REF!,1,FALSE)=D30,"A반"),"B반") -> B반 | AH30: 참여희망 | AI30: 교육참석 (B반)
B31: 67 | C31: 서울 | D31: 미랜 | E31: 유재순 | F31: 131-86-55410 | G31: 인천광역시 | H31: 남동구 | I31: (21639) 인천광역시 남동구 함박뫼로 396 (논현동, 남동시범공단) 3층 1호 | J31: 제조업 | K31: 9 | L31: https://smartstore.naver.com/milen0700 | M31: 파워 | N31: 8853 | O31: 3492 | P31: O | R31: 음식물처리기, 가스타이머 | S31: 테크 | T31: https://smartstore.naver.com/milen0700/products/5895656370 | U31: 010-9410-7891 | V31: 032-815-9167 | W31: milen@milen.co.kr | X31: 서울 | Y31: 오전 | Z31: 77 | AA31: 26 | AB31: ㅇ | AC31: ㅇ | AF31: ㅇ | AG31: =IFERROR(IF(VLOOKUP('숏클립(전체)'!D31,#REF!,1,FALSE)=D31,"A반"),"B반") -> B반 | AH31: 보완중 | AI31: 유효기간 만료
B32: 72 | C32: 서울 | D32: 바른커뮤니케이션 | E32: 이동호 | F32: 129-26-24356 | G32: 경기도 | H32: 용인시 | I32: (16837) 경기도 용인시 수지구 풍덕천로139번길 16-5 (풍덕천동, 선용빌딩) 2층 15호 | J32: 도매 및 소매업 | K32: - | L32: https://smartstore.naver.com/webazit | M32: 파워 | N32: 1600 | O32: 888 | P32: O | Q32: https://m.smartstore.naver.com/webazit/lives | R32: 스테인레스 욕조거름망 | S32: 라이프 | T32: https://smartstore.naver.com/webazit/products/5731224994 | U32: 010-8120-3571 | V32: 010-8369-3571 | W32: baruncomm@naver.com | X32: 서울 | Y32: 오전 | Z32: 76.75 | AA32: 27 | AB32: 참여o, 6시까지 | AG32: =IFERROR(IF(VLOOKUP('숏클립(전체)'!D32,#REF!,1,FALSE)=D32,"A반"),"B반") -> B반 | AH32: 참여희망 | AI32: 교육참석 (B반)
B33: 42 | C33: 서울 | D33: 바스몽 | E33: 유숙영 | F33: 854-17-01442 | G33: 인천광역시 | H33: 계양구 | I33: (21025) 인천광역시 계양구 계양산로 161 (임학동) 2층 | J33: 제조업 | K33: 1 | L33: https://smartstore.naver.com/bathmong.shop | M33: 파워 | N33: 9731 | O33: 4152 | P33: X | R33: 강아지입욕제 | S33: 라이프 | T33: https://smartstore.naver.com/bathmong/products/5231767675 https://smartstore.naver.com/bathmong/products/6740077221 | U33: 010-3396-2892 | V33: 070-7954-7540 | W33: bath_mong@naver.com | X33: 서울 | Y33: 오후 | Z33: 76.75 | AA33: 28 | AB33: ㅇ | AC33: ㅇ | AD33: ㅇ | AE33: ㅇ | AF33: ㅇ | AG33: =IFERROR(IF(VLOOKUP('숏클립(전체)'!D33,#REF!,1,FALSE)=D33,"A반"),"B반") -> B반 | AH33: 포기신청 | AI33: 사업포기
B34: 77 | C34: 서울 | D34: 반디랩 | E34: 김원희 | F34: 716-86-01694 | G34: 경기도 | H34: 고양시 | I34: (10364) 경기도 고양시 일산동구 고봉로 32-19 (장항동, 남정씨티프라자7차) 805호 | J34: 제조업 | K34: 4 | L34: https://smartstore.naver.com/vandilab | M34: 파워 | N34: 2000 | O34: 2734 | P34: O | Q34: https://shoppinglive.naver.com/replays/243404?fm=shoppinglive&sn=home | R34: 반디스트랩케이스, 반디딱 | S34: 라이프 | T34: https://smartstore.naver.com/vandilab/products/5327336178 | U34: 010-8779-8686 | V34: 031-911-0110 | W34: bywonny@naver.com | X34: 서울 | Y34: 오후 | Z34: 76.75 | AA34: 29 | AB34: 참여o, 6시까지 | AG34: =IFERROR(IF(VLOOKUP('숏클립(전체)'!D34,#REF!,1,FALSE)=D34,"A반"),"B반") -> B반 | AH34: 참여희망 | AI34: 교육참석 (B반)
B35: 6 | C35: 서울 | D35: 범표원두 | E35: 윤기선 | F35: 677-24-00539 | G35: 경기도 | H35: 구리시 | I35: (11901) 경기도 구리시 갈매순환로204번길 51-14 (갈매동) 1층 범표원두 | J35: 제조업 | K35: 3 | L35: https://smartstore.naver.com/uhung | M35: 빅파워 | N35: 17306 | O35: 6050 | P35: O | Q35: https://view.shoppinglive.naver.com/replays/649920 | R35: 범표 원두500g | S35: 푸드 | T35: https://smartstore.naver.com/uhung/products/4807118907 | U35: 010-9177-3071 | V35: 010-9105-7494 | W35: bumpyobeans@naver.com | X35: 서울 | Y35: 오전 | Z35: 76.5 | AA35: 30 | AB35: ㅇ | AC35: ㅇ | AD35: ㅇ | AE35: ㅇ | AF35: ㅇ | AG35: =IFERROR(IF(VLOOKUP('숏클립(전체)'!D35,#REF!,1,FALSE)=D35,"A반"),"B반") -> B반 | AH35: 검토완료
B36: 59 | C36: 서울 | D36: 베러투게더 | E36: 허수진 | F36: 620-86-00206 | G36: 경기도 | H36: 성남시 | I36: (13449) 경기도 성남시 수정구 대왕판교로 815 (시흥동, 판교창조경제밸리) 7층 715-2 | J36: 제조업 | K36: 9 | L36: https://smartstore.naver.com/betokorea | M36: 파워 | N36: 5400 | O36: 2636 | P36: X | R36: 알잠슈트 | S36: 키즈 | T36: https://smartstore.naver.com/betokorea/products/5594666692 | U36: 010-8623-9708 | V36: 010-8623-9708 | W36: suzie@goodnightbaby.org | X36: 서울 | Y36: 오후 | Z36: 76.25 | AA36: 31 | AB36: ㅇ | AC36: ㅇ | AD36: ㅇ | AE36: ㅇ | AF36: ㅇ | AG36: =IFERROR(IF(VLOOKUP('숏클립(전체)'!D36,#REF!,1,FALSE)=D36,"A반"),"B반") -> B반 | AH36: 검토완료
B37: 60 | C37: 서울 | D37: 베아티투도 | E37: 김동민 | F37: 565-17-01649 | G37: 서울특별시 | H37: 송파구 | I37: (05558) 서울특별시 송파구 백제고분로7길 41 (잠실동, NS파인트리) 612호 | J37: 도매 및 소매업 | K37: 0 | L37: https://smartstore.naver.com/beatitudo_with_you | M37: 파워 | N37: 5000 | O37: 736 | P37: O | Q37: https://tool.shoppinglive.naver.com/broadcasts/edit?id=547792&sortType=ALL | R37: 베아티투도 컵세척기 | S37: 라이프 | T37: https://smartstore.naver.com/beatitudo_with_you/products/6294030442 | U37: 010-5169-2681 | V37: - | W37: beatitudo_with_you@naver.com | X37: 서울 | Y37: 오후 | Z37: 76.25 | AA37: 32 | AB37: ㅇ | AC37: ㅇ | AD37: 재제출요청 | AE37: 재제출요청 | AF37: 재제출요청 | AG37: =IFERROR(IF(VLOOKUP('숏클립(전체)'!D37,#REF!,1,FALSE)=D37,"A반"),"B반") -> B반 | AH37: 보완중 | AI37: 유효기간 만료, 동의표시 안함
B38: 24 | C38: 서울 | D38: 블로그마케팅애드 | E38: 성준혁 | F38: 129-31-71061 | G38: 서울특별시 | H38: 마포구 | I38: (03987) 서울특별시 마포구 성미산로 104 (연남동) 세창빌딩 2층 | J38: 제조업 | K38: 2 | L38: https://smartstore.naver.com/appeshop/products/4879073780 | M38: 빅파워 | N38: 46000 | O38: 13483 | P38: O | Q38: https://shoppinglive.naver.com/channels/15092 | R38: 로디나트 파우치백팩 | S38: 패션 | T38: https://smartstore.naver.com/appeshop/products/4879073780 | U38: 010-9932-1029 | V38: 010-2953-2739 | W38: yangah2@naver.com | X38: 서울 | Y38: 오후 | Z38: 76.25 | AA38: 33 | AB38: ㅇ | AC38: ㅇ | AD38: ㅇ | AE38: ㅇ | AF38: ㅇ | AG38: =IFERROR(IF(VLOOKUP('숏클립(전체)'!D38,#REF!,1,FALSE)=D38,"A반"),"B반") -> B반 | AH38: 검토완료
B39: 10 | C39: 서울 | D39: 비글C&M | E39: 김재규 | F39: 105-20-51501 | G39: 서울특별시 | H39: 송파구 | I39: (05855) 서울특별시 송파구 법원로 92 (문정동, 파트너스1) 403호 | J39: 도매 및 소매업 | K39: - | L39: https://smartstore.naver.com/studiobeagle | M39: 빅파워 | N39: 15000 | O39: 7715 | P39: O | Q39: https://view.shoppinglive.naver.com/replays/71171?fm=shoppinglive&sn=home | R39: 플랫져키 | S39: 라이프 | T39: https://smartstore.naver.com/studiobeagle/products/2111302466 | U39: 010-9091-1562 | V39: 02-556-1562 | W39: jaekyuwow@gmail.com | X39: 서울 | Y39: 오전 | Z39: 76.25 | AA39: 34 | AB39: ㅇ | AC39: 재제출요청 | AD39: ㅇ | AE39: ㅇ | AF39: ㅇ | AG39: =IFERROR(IF(VLOOKUP('숏클립(전체)'!D39,#REF!,1,FALSE)=D39,"A반"),"B반") -> B반 | AH39: 보완중 | AI39: 소상공인확인서 기간만료(연락완료)
B40: 86 | C40: 서울 | D40: 비듀이 | E40: 권동일 | F40: 351-09-01569 | G40: 경기도 | H40: 김포시 | I40: (10099) 경기도 김포시 걸포2로 60 (걸포동, 한강메트로자이3단지) 304-1703 | J40: 도매 및 소매업 | K40: 0 | L40: https://smartstore.naver.com/newbreath | M40: 빅파워 | N40: 9100 | O40: 2075 | P40: X | R40: 비듀이 감성 디퓨저 7종 | S40: 라이프 | T40: https://smartstore.naver.com/newbreath/products/5544907931 | U40: 010-6478-9020 | V40: 070-7776-8223 | W40: nodage31@naver.com | X40: 서울 | Y40: 오전 | Z40: 76.25 | AA40: 35 | AB40: ㅇ | AC40: ㅇ | AD40: ㅇ | AE40: ㅇ | AF40: ㅇ | AG40: =IFERROR(IF(VLOOKUP('숏클립(전체)'!D40,#REF!,1,FALSE)=D40,"A반"),"B반") -> B반 | AH40: 검토완료
B41: 61 | C41: 서울 | D41: 비티 | E41: 김용석 | F41: 777-28-00424 | G41: 경기도 | H41: 남양주시 | I41: (12047) 경기도 남양주시 오남읍 양지로281번길 16 (오남읍, 쌍용스윗닷홈아파트) 106동 705호 | J41: 도매 및 소매업 | K41: 1 | L41: https://smartstore.naver.com/mizgirl | M41: 빅파워 | N41: 14998 | O41: 10297 | P41: X | R41: 천연양가죽 수제화 정장 구두 | S41: 패션 | T41: https://smartstore.naver.com/mizgirl/products/6333771221 | U41: 010-8931-6325 | V41: 070-8163-0303 | W41: namoo430@naver.com | X41: 서울 | Y41: 오후 | Z41: 76.25 | AA41: 36 | AB41: 참여o, 6시까지 | AG41: =IFERROR(IF(VLOOKUP('숏클립(전체)'!D41,#REF!,1,FALSE)=D41,"A반"),"B반") -> B반 | AH41: 참여희망 | AI41: 교육참석 (A반)
B42: 64 | C42: 서울 | D42: 삼창 | E42: 박지은 | F42: 550-88-01083 | G42: 경기도 | H42: 고양시 | I42: (10219) 경기도 고양시 일산서구 대화1로 21 (대화동, 대화마을1단지아파트) 103동 305호 | J42: 제조업 | K42: 1 | L42: https://smartstore.naver.com/moredelicious | M42: 빅파워 | N42: 17576 | O42: 23025 | P42: O | Q42: https://view.shoppinglive.naver.com/replays/370875 | R42: 맛있는 경상도식 석박지 | S42: 푸드 | T42: https://smartstore.naver.com/moredelicious/products/5443250025 | U42: 010-6750-1812 | V42: 010-3088-3094 | W42: jusamchang12@naver.com | X42: 서울 | Y42: 오전 | Z42: 76 | AA42: 37 | AB42: ㅇ | AC42: ㅇ | AD42: ㅇ | AE42: ㅇ | AF42: ㅇ | AG42: =IFERROR(IF(VLOOKUP('숏클립(전체)'!D42,#REF!,1,FALSE)=D42,"A반"),"B반") -> B반 | AH42: 검토완료
B43: 47 | C43: 서울 | D43: 샐러드컴퍼니 | E43: 박선우 | F43: 148-88-00843 | G43: 서울특별시 | H43: 강남구 | I43: (06154) 서울특별시 강남구 봉은사로72길 8 (삼성동) 4cmd 401호 | J43: 제조업 | K43: 4 | L43: https://smartstore.naver.com/saladcompany | M43: 파워 | N43: 3730 | O43: 15553 | P43: O | Q43: https://shoppinglive.naver.com/channels/48950 | R43: 네일스티커/토너 | S43: 뷰티 | T43: https://smartstore.naver.com/saladcompany/products/7120921990 | U43: 010-3888-8906 | V43: 010-2570-6404 | W43: hq@saladcompany.kr | X43: 서울 | Y43: 오전 | Z43: 76 | AA43: 38 | AB43: 참여o, 6시까지 | AG43: =IFERROR(IF(VLOOKUP('숏클립(전체)'!D43,#REF!,1,FALSE)=D43,"A반"),"B반") -> B반 | AH43: 참여희망 | AI43: 교육참석 (B반)
B44: 73 | C44: 서울 | D44: 샤인핏글로벌 | E44: 차효정 | F44: 805-24-00677 | G44: 경기도 | H44: 시흥시 | I44: (14922) 경기도 시흥시 은계남길 32 (은행동, 성강해오름 지식산업센터) D702호 | J44: 제조업 | K44: 2 | L44: https://smartstore.naver.com/liebcosmetic | M44: 빅파워 | N44: 12141 | O44: 2166 | P44: O | R44: 가벼운날 더브이티 | S44: 푸드 | T44: https://smartstore.naver.com/liebcosmetic/products/6608343453 | U44: 010-8948-3302 | V44: 010-9469-7217 | W44: lebensjh@naver.com | X44: 서울 | Y44: 오후 | Z44: 75.75 | AA44: 39 | AB44: 참여o, 6시까지 | AG44: =IFERROR(IF(VLOOKUP('숏클립(전체)'!D44,#REF!,1,FALSE)=D44,"A반"),"B반") -> B반 | AH44: 참여희망 | AI44: 교육참석 (A반)
B45: 26 | C45: 서울 | D45: 설렘하우스 | E45: 장정호 | F45: 503-37-25054 | G45: 경기도 | H45: 파주시 | I45: (10910) 경기도 파주시 하우4길 23 (상지석동) 설렘하우스 | J45: 도매 및 소매업 | K45: 4 | L45: https://smartstore.naver.com/seolremhouse? | M45: 빅파워 | N45: 11874 | O45: 4350 | P45: O | Q45: https://shoppinglive.naver.com/replays/643538?fm=shoppinglive&sn=home | R45: 우산꽂이 | S45: 라이프 | T45: https://smartstore.naver.com/seolremhouse/products/4966444208 | U45: 010-3351-1396 | V45: 010-3371-1396 | W45: seolremhouse@naver.com | X45: 서울 | Y45: 오전 | Z45: 75.75 | AA45: 40 | AB45: ㅇ | AC45: ㅇ | AD45: ㅇ | AE45: ㅇ | AF45: ㅇ | AG45: =IFERROR(IF(VLOOKUP('숏클립(전체)'!D45,#REF!,1,FALSE)=D45,"A반"),"B반") -> B반 | AH45: 검토완료
B46: 39 | C46: 서울 | D46: 솜씨협동조합 | E46: 장원재 | F46: 441-86-00883 | G46: 경기도 | H46: 남양주시 | I46: (12196) 경기도 남양주시 화도읍 폭포로242번안길 20-11 (화도읍) 솜씨협동조합 | J46: 제조업 | K46: 7 | L46: https://smartstore.naver.com/cooksomssi | M46: 파워 | N46: 4214 | O46: 5189 | P46: O | Q46: https://shoppinglive.naver.com/channels/42073 | R46: 해물누룽지탕 밀키트 | S46: 푸드 | T46: https://smartstore.naver.com/cooksomssi/products/6771089570 | U46: 010-6685-9312 | V46: 010-6685-9312 | W46: cook2519@naver.com | X46: 서울 | Y46: 오전 | Z46: 75.5 | AA46: 41 | AB46: ㅇ | AC46: ㅇ | AD46: ㅇ | AE46: ㅇ | AG46: =IFERROR(IF(VLOOKUP('숏클립(전체)'!D46,#REF!,1,FALSE)=D46,"A반"),"B반") -> B반 | AH46: 검토완료 | AI46: 대표자 촬영동의서 아님
B47: 49 | C47: 서울 | D47: 슈퍼스타 | E47: 윤금량 | F47: 397-26-00135 | G47: 서울특별시 | H47: 관악구 | I47: (08797) 서울특별시 관악구 봉천동 180-75 하나빌라 301호 | J47: 도매 및 소매업 | K47: 1 | L47: https://smartstore.naver.com/nadoissda | M47: 빅파워 | N47: 25163 | O47: 15360 | P47: O | Q47: https://view.shoppinglive.naver.com/replays/137539?fm=shopping&sn=bsw | R47: 거실실내화 층간소음 슬리퍼 | S47: 라이프 | T47: https://smartstore.naver.com/nadoissda/products/5078055152 | U47: 010-2594-8333 | V47: 010-8989-7257 | W47: lily82119@naver.com | X47: 서울 | Y47: 오전 | Z47: 75.5 | AA47: 42 | AB47: ㅇ | AC47: ㅇ | AD47: 재제출요청 | AE47: ㅇ | AF47: ㅇ | AG47: =IFERROR(IF(VLOOKUP('숏클립(전체)'!D47,#REF!,1,FALSE)=D47,"A반"),"B반") -> B반 | AH47: 보완중
B48: 11 | C48: 서울 | D48: 스윙화이어 | E48: 이소영 | F48: 220-08-88362 | G48: 경기도 | H48: 파주시 | I48: (10881) 경기도 파주시 문발로 142 (문발동) 204 | J48: 도매 및 소매업 | K48: 2 | L48: https://smartstore.naver.com/swingfire | M48: 빅파워 | N48: 100000 | O48: 21816 | P48: X | R48: 여성골프웨어 | S48: 패션 | T48: https://smartstore.naver.com/swingfire/products/5447490210 | U48: 010-5628-1010 | V48: 031-945-0925 | W48: swingfire@nate.com | X48: 서울 | Y48: 오전 | Z48: 75.5 | AA48: 43 | AB48: 참여o, 6시까지 | AG48: =IFERROR(IF(VLOOKUP('숏클립(전체)'!D48,#REF!,1,FALSE)=D48,"A반"),"B반") -> B반 | AH48: 참여희망 | AI48: 교육참석 (A반)
B49: 32 | C49: 서울 | D49: 스타일구루 | E49: 한그루 | F49: 109-14-72337 | G49: 서울특별시 | H49: 종로구 | I49: (03114) 서울특별시 종로구 종로 344 (숭인동, 종로대우디오빌) 지하1층 2004호 | J49: 도매 및 소매업 | K49: - | L49: https://smartstore.naver.com/styleguru | M49: 빅파워 | N49: 15115 | O49: 7269 | P49: O | Q49: https://view.shoppinglive.naver.com/replays/613706?fm=shoppinglive&sn=home | R49: 데일리 키높이 로퍼 7cm | S49: 패션 | T49: https://smartstore.naver.com/styleguru/products/648145907 | U49: 010-2677-3788 | V49: 010-2720-6396 | W49: styleguru_b@naver.com | X49: 서울 | Y49: 오후 | Z49: 75.5 | AA49: 44 | AB49: ㅇ | AC49: ㅇ | AD49: ㅇ | AE49: ㅇ | AF49: ㅇ | AG49: =IFERROR(IF(VLOOKUP('숏클립(전체)'!D49,#REF!,1,FALSE)=D49,"A반"),"B반") -> B반 | AH49: 검토완료
B50: 43 | C50: 서울 | D50: 신세계의료기 | E50: 김선규 | F50: 668-17-00366 | G50: 서울특별시 | H50: 종로구 | I50: (03197) 서울특별시 종로구 종로 248 (종로5가) 1층 | J50: 도매 및 소매업 | K50: 3 | L50: https://smartstore.naver.com/yacson | M50: 빅파워 | N50: 48700 | O50: 4234 | P50: X | R50: 프라임 디지털 온열패드 | S50: 라이프 | T50: https://smartstore.naver.com/yacson/products/4689740777 | U50: 010-2580-2104 | V50: 02-2266-4573 | W50: undercover16@naver.com | X50: 서울 | Y50: 오후 | Z50: 75.25 | AA50: 45 | AB50: ㅇ | AC50: ㅇ | AD50: ㅇ | AE50: ㅇ | AF50: ㅇ | AG50: =IFERROR(IF(VLOOKUP('숏클립(전체)'!D50,#REF!,1,FALSE)=D50,"A반"),"B반") -> B반 | AH50: 검토완료 | AI50: 국세 납부유예기간 9월 30일
B51: 4 | C51: 서울 | D51: 싱싱모아팜 | E51: 송경신 | F51: 765-09-01415 | G51: 서울특별시 | H51: 구로구 | I51: (08306) 서울특별시 구로구 가마산로 242 (구로동, 희망재단) 3층 303호 | J51: 도매 및 소매업 | K51: 1 | L51: https://smartstore.naver.com/freshmoa | M51: 빅파워 | N51: 18551 | O51: 7040 | P51: O | Q51: https://view.shoppinglive.naver.com/replays/443607?fm=shoppinglive&sn=share | R51: 여주 유기농 모듬쌈채소 샐러드 | S51: 푸드 | T51: https://smartstore.naver.com/freshmoa/products/5292192684 | U51: 010-4722-4122 | V51: 010-4722-4122 | W51: freshmoafarm@naver.com | X51: 서울 | Y51: 오후 | Z51: 75 | AA51: 46 | AB51: 참여o, 6시까지 | AG51: =IFERROR(IF(VLOOKUP('숏클립(전체)'!D51,#REF!,1,FALSE)=D51,"A반"),"B반") -> B반 | AH51: 참여희망 | AI51: 교육참석 (A반)
B52: 87 | C52: 서울 | D52: 씨티이앤엠 | E52: 이성규 | F52: 204-09-74067 | G52: 서울특별시 | H52: 강남구 | I52: (06153) 서울특별시 강남구 봉은사로 420 (삼성동, 학산빌딩) 410호 | J52: 도매 및 소매업 | K52: 1 | L52: https://smartstore.naver.com/yeoinnara | M52: 파워 | N52: 1740 | O52: 430 | P52: O | Q52: https://view.shoppinglive.naver.com/replays/652002?fm=shopping&sn=bsw | R52: 갈비탕,낙곱새,건어물,밀키트 등 | S52: 푸드 | T52: https://smartstore.naver.com/yeoinnara/products/6741748631 | U52: 010-2382-6468 | V52: 010-4858-2852 | W52: tuttle419@naver.com | X52: 서울 | Y52: 오전 | Z52: 75 | AA52: 47 | AB52: ㅇ | AC52: ㅇ | AD52: ㅇ | AE52: ㅇ | AF52: ㅇ | AG52: =IFERROR(IF(VLOOKUP('숏클립(전체)'!D52,#REF!,1,FALSE)=D52,"A반"),"B반") -> B반 | AH52: 검토완료
B53: 18 | C53: 서울 | D53: 씽크와이드 | E53: 강승규 | F53: 130-40-31023 | G53: 서울특별시 | H53: 금천구 | I53: (08501) 서울특별시 금천구 가마산로 96 (가산동, 대륭테크노타운8차) 608 | J53: 도매 및 소매업 | K53: 2 | L53: https://smartstore.naver.com/econfun | M53: 파워 | N53: 13860 | O53: 6588 | P53: X | R53: 아빠차트 | S53: 키즈 | T53: https://smartstore.naver.com/econfun/products/262212666 | U53: 010-2668-5574 | V53: 010-4723-5574 | W53: mdrg.twide@gmail.com | X53: 서울 | Y53: 오후 | Z53: 74.75 | AA53: 48 | AB53: 사업포기 | AG53: =IFERROR(IF(VLOOKUP('숏클립(전체)'!D53,#REF!,1,FALSE)=D53,"A반"),"B반") -> B반 | AH53: 포기신청 | AI53: 사업포기
B54: 81 | C54: 서울 | D54: 아르띠콜로 | E54: 이설화 | F54: 198-13-01534 | G54: 경기도 | H54: 포천시 | I54: (11167) 경기도 포천시 가산면 정금로 418 (가산면) 제 나동 호 아르띠콜로 | J54: 도매 및 소매업 | K54: 2 | L54: https://smartstore.naver.com/articolo | M54: 파워 | N54: 2483 | O54: 908 | P54: O | Q54: https://shoppinglive.naver.com/search?query=%EC%95%84%EB%A5%B4%EB%9D%A0%EC%BD%9C%EB%A1%9C | R54: 고양이털 먼지 청소 롤클리너 | S54: 라이프 | T54: https://smartstore.naver.com/articolo/products/6627222494 | U54: 010-3368-9507 | V54: 010-5113-7507 | W54: tyuvcxg9507@naver.com | X54: 서울 | Y54: 오후 | Z54: 74.75 | AA54: 49 | AB54: ㅇ | AC54: ㅇ | AD54: ㅇ | AE54: ㅇ | AF54: ㅇ | AG54: =IFERROR(IF(VLOOKUP('숏클립(전체)'!D54,#REF!,1,FALSE)=D54,"A반"),"B반") -> B반 | AH54: 검토완료
B55: 62 | C55: 서울 | D55: 아이앤커머스 | E55: 차민주 | F55: 416-87-02112 | G55: 서울특별시 | H55: 종로구 | I55: (03112) 서울특별시 종로구 종로65길 20 (숭인동) 201호 (위너스빌) | J55: 도매 및 소매업 | K55: 2 | L55: https://smartstore.naver.com/charensia | M55: 빅파워 | N55: 20579 | O55: 15750 | P55: O | Q55: https://shoppinglive.naver.com/search?query=%EC%B0%A8%EB%A0%8C%EC%8B%9C%EC%95%84 | R55: 공진단 용돈박스 | S55: 라이프 | T55: https://smartstore.naver.com/charensia/products/6088170358 | U55: 010-7414-7920 | V55: 010-7414-7920 | W55: parky0809@naver.com | X55: 서울 | Y55: 오전 | Z55: 74.75 | AA55: 50 | AB55: 사업포기 | AG55: =IFERROR(IF(VLOOKUP('숏클립(전체)'!D55,#REF!,1,FALSE)=D55,"A반"),"B반") -> B반 | AH55: 포기신청 | AI55: 사업포기
B56: 28 | C56: 서울 | D56: 알디코퍼레이션 | E56: 김석범 | F56: 111-37-68271 | G56: 서울특별시 | H56: 광진구 | I56: (05074) 서울특별시 광진구 뚝섬로31길 20 (자양동, 대동아파트) 101-704 | J56: 도매 및 소매업 | K56: 0 | L56: https://smartstore.naver.com/tokntok | M56: 빅파워 | N56: 12727 | O56: 2362 | P56: X | R56: 기내용 캐리어 | S56: 패션 | T56: https://smartstore.naver.com/tokntok/products/6784998482 | U56: 010-5123-4782 | V56: 010-4824-5947 | W56: helloclothes@naver.com | X56: 서울 | Y56: 오후 | Z56: 74.75 | AA56: 51 | AB56: 참여o, 6시까지 | AG56: =IFERROR(IF(VLOOKUP('숏클립(전체)'!D56,#REF!,1,FALSE)=D56,"A반"),"B반") -> B반 | AH56: 참여희망 | AI56: 교육참석 (A반)
B57: 52 | C57: 서울 | D57: 언니에반하다 | E57: 이송이 | F57: 238-87-02337 | G57: 서울특별시 | H57: 서대문구 | I57: (03786) 서울특별시 서대문구 신촌로 51 (창천동) 58호 | J57: 도매 및 소매업 | K57: 4 | L57: https://smartstore.naver.com/banhada_swan | M57: 빅파워 | N57: 106000 | O57: 40602 | P57: X | R57: 핫팩에반하다 | S57: 라이프 | T57: http://smartstore.naver.com/banhada_swan/products/6033353284 | U57: 010-2232-1021 | V57: 010-3319-3809 | W57: banhada_swan@naver.com | X57: 서울 | Y57: 오전 | Z57: 74.5 | AA57: 52 | AB57: ㅇ | AC57: ㅇ | AD57: ㅇ | AE57: ㅇ | AF57: ㅇ | AG57: =IFERROR(IF(VLOOKUP('숏클립(전체)'!D57,#REF!,1,FALSE)=D57,"A반"),"B반") -> B반 | AH57: 검토완료
B58: 82 | C58: 서울 | D58: 에이모노 | E58: 지충환 | F58: 211-88-43475 | G58: 서울특별시 | H58: 송파구 | I58: (05549) 서울특별시 송파구 오금로17길 5 (방이동, 제이엠빌딩(J&M빌딩)) 2층2호 | J58: 도매 및 소매업 | K58: 2 | L58: https://smartstore.naver.com/amono | M58: 파워 | N58: 3957 | O58: 4328 | P58: X | R58: 레트로 스탠드 | S58: 라이프 | T58: https://smartstore.naver.com/amono/products/543413399 | U58: 010-9141-5431 | V58: 02-2293-0805 | W58: amono@amono.co.kr | X58: 서울 | Y58: 오전 | Z58: 74.5 | AA58: 53 | AB58: 사업포기 | AG58: =IFERROR(IF(VLOOKUP('숏클립(전체)'!D58,#REF!,1,FALSE)=D58,"A반"),"B반") -> B반 | AH58: 포기신청 | AI58: 사업포기
B59: 25 | C59: 서울 | D59: 에이원트컴퍼니 | E59: 안소현 | F59: 217-11-18900 | G59: 서울특별시 | H59: 노원구 | I59: (01695) 서울특별시 노원구 노해로 501 (상계동, 노원빌딩) 9층 26호 | J59: 도매 및 소매업 | K59: - | L59: https://smartstore.naver.com/shoerit | M59: 파워 | N59: 7917 | O59: 8676 | P59: O | Q59: https://view.shoppinglive.naver.com/replays/281380?from=share&fm=shoppinglive&sn=share | R59: 운동화세제 | S59: 라이프 | T59: https://smartstore.naver.com/shoerit/products/2621806737 | U59: 010-3124-6921 | V59: 010-2872-6921 | W59: noranstar@naver.com | X59: 서울 | Y59: 오전 | Z59: 74.5 | AA59: 54 | AB59: 참여o, 6시까지 | AG59: =IFERROR(IF(VLOOKUP('숏클립(전체)'!D59,#REF!,1,FALSE)=D59,"A반"),"B반") -> B반 | AH59: 참여희망 | AI59: 교육참석 (B반)
B60: 14 | C60: 서울 | D60: 에이치엔 | E60: 김병철 | F60: 482-17-01010 | G60: 서울특별시 | H60: 강북구 | I60: (01165) 서울특별시 강북구 도봉로 102 (미아동) 황산회관 3층 34호 | J60: 도매 및 소매업 | K60: 0 | L60: https://smartstore.naver.com/hn-global | M60: 파워 | N60: 11500 | O60: 2443 | P60: X | R60: 포항 구룡포 해각포 (홍게다리포) | S60: 푸드 | T60: https://smartstore.naver.com/hn-global/products/6462557290 | U60: 010-2709-3496 | V60: 010-2709-3496 | W60: ceo@hnglobal.co.kr | X60: 서울 | Y60: 오후 | Z60: 74.25 | AA60: 55 | AB60: ㅇ | AC60: ㅇ | AD60: ㅇ | AE60: ㅇ | AF60: ㅇ | AG60: =IFERROR(IF(VLOOKUP('숏클립(전체)'!D60,#REF!,1,FALSE)=D60,"A반"),"B반") -> B반 | AH60: 검토완료
B61: 57 | C61: 서울 | D61: 에이치케이상사 | E61: 이형록 | F61: 140-02-70899 | G61: 경기도 | H61: 파주시 | I61: (10910) 경기도 파주시 운정로 19-13 (상지석동) | J61: 도매 및 소매업 | K61: 2 | L61: https://smartstore.naver.com/fashy | M61: 파워 | N61: 19289 | O61: 25661 | P61: X | R61: 보온 물 주머니 | S61: 라이프 | T61: https://smartstore.naver.com/fashy/products/3598602080 | U61: 010-6298-7181 | V61: 010-6234-0999 | W61: fashy@daum.net | X61: 서울 | Y61: 오전 | Z61: 74.25 | AA61: 56 | AB61: ㅇ | AC61: ㅇ | AD61: ㅇ | AE61: ㅇ | AF61: ㅇ | AG61: =IFERROR(IF(VLOOKUP('숏클립(전체)'!D61,#REF!,1,FALSE)=D61,"A반"),"B반") -> B반 | AH61: 검토완료
B62: 78 | C62: 서울 | D62: 에코뷰티 | E62: 김진성 | F62: 329-05-01623 | G62: 경기도 | H62: 안양시 | I62: (13924) 경기도 안양시 동안구 비산동 515-2 평촌자이아이파크 118동 902호 | J62: 도매 및 소매업 | K62: 0 | L62: https://smartstore.naver.com/phyts-therapy | M62: 파워 | N62: 9970 | O62: 1235 | P62: X | R62: 화장품 (셀티카 보습진정플루이드) | S62: 뷰티 | T62: ※ 준비중 | U62: 010-3267-1252 | V62: 010-2686-8049 | W62: psh-goodidea@naver.com | X62: 서울 | Y62: 오후 | Z62: 74.25 | AA62: 57 | AB62: ㅇ | AC62: ㅇ | AD62: ㅇ | AE62: ㅇ | AF62: ㅇ | AG62: =IFERROR(IF(VLOOKUP('숏클립(전체)'!D62,#REF!,1,FALSE)=D62,"A반"),"B반") -> B반 | AH62: 검토완료
B63: 83 | C63: 서울 | D63: 에프에프통상 | E63: 박미성 | F63: 228-88-01018 | G63: 경기도 | H63: 화성시 | I63: (18614) 경기도 화성시 향남읍 분향동길 51-3 (향남읍) 1층 | J63: 제조업 | K63: 0 | L63: https://smartstore.naver.com/jouncorporation/products/4865103508 | M63: 파워 | N63: 4700 | O63: 3750 | P63: O | R63: 유기농설탕 | S63: 푸드 | T63: https://smartstore.naver.com/jouncorporation/products/4865103508 | U63: 010-7748-3680 | V63: 010-7748-3680 | W63: mii2224@naver.com | X63: 서울 | Y63: 오후 | Z63: 74.25 | AA63: 58 | AB63: ㅇ | AC63: ㅇ | AD63: ㅇ | AF63: ㅇ | AG63: =IFERROR(IF(VLOOKUP('숏클립(전체)'!D63,#REF!,1,FALSE)=D63,"A반"),"B반") -> B반 | AH63: 보완중
B64: 53 | C64: 서울 | D64: 엔드리스 | E64: 윤지혜 | F64: 602-21-61356 | G64: 경기도 | H64: 용인시 | I64: (16922) 경기도 용인시 기흥구 용구대로 2311 (마북동, 경기도여성능력개발센타) BIZ 21팀 | J64: 제조업 | K64: 1 | L64: https://smartstore.naver.com/kidsforest | M64: 파워 | N64: 8832 | O64: 12126 | P64: O | Q64: https://view.shoppinglive.naver.com/replays/71081?fm=shopping&sn=bsw | R64: 키즈 신학기 노트세트 | S64: 라이프 | T64: https://smartstore.naver.com/kidsforest/products/5397702956 | U64: 010-4134-2115 | V64: 010-4134-2115 | W64: sophia@kidsbinder.co.kr | X64: 서울 | Y64: 오전 | Z64: 74 | AA64: 59 | AB64: 참여o, 6시까지 | AG64: =IFERROR(IF(VLOOKUP('숏클립(전체)'!D64,#REF!,1,FALSE)=D64,"A반"),"B반") -> B반 | AH64: 참여희망 | AI64: 교육불참 (B반)
B65: 88 | C65: 서울 | D65: 엠씨플레이스 | E65: 최주영 | F65: 481-16-01359 | G65: 경기도 | H65: 화성시 | I65: (18405) 경기도 화성시 효행로 1060 (병점동, 이타운4) 10층 1004호 | J65: 도매 및 소매업 | K65: 0 | L65: https://smartstore.naver.com/dakda | M65: 파워 | N65: 1621 | O65: 299 | P65: X | R65: 한입 쏙 고구마냥 | S65: 푸드 | T65: https://smartstore.naver.com/dakda/products/6449188186 | U65: 010-6760-0208 | V65: 070-8909-1237 | W65: ddmk365@naver.com | X65: 서울 | Y65: 오전 | Z65: 74 | AA65: 60 | AB65: ㅇ | AC65: ㅇ | AD65: ㅇ | AE65: ㅇ | AF65: ㅇ | AG65: =IFERROR(IF(VLOOKUP('숏클립(전체)'!D65,#REF!,1,FALSE)=D65,"A반"),"B반") -> B반 | AH65: 검토완료
B66: 54 | C66: 서울 | D66: 영앤와이 | E66: 김남영 | F66: 578-61-00334 | G66: 서울특별시 | H66: 강남구 | I66: (06150) 서울특별시 강남구 테헤란로 327 (역삼동, 빅토리아오피스텔) 1306호 우리간식 | J66: 도매 및 소매업 | K66: 2 | L66: https://smartstore.naver.com/nymarket21 | M66: 파워 | N66: 6421 | O66: 2252 | P66: X | R66: 호두강정 / 지미스그래놀라 | S66: 푸드 | T66: https://smartstore.naver.com/nymarket21/products/4790775248 | U66: 010-3132-6151 | V66: 010-3369-0033 | W66: ourgansik@gmail.com | X66: 서울 | Y66: 오전 | Z66: 74 | AA66: 61 | AB66: 참여o, 6시까지 | AG66: =IFERROR(IF(VLOOKUP('숏클립(전체)'!D66,#REF!,1,FALSE)=D66,"A반"),"B반") -> B반 | AH66: 참여희망 | AI66: 교육참석 (A반)
B67: 65 | C67: 서울 | D67: 오맘 | E67: 문정순 | F67: 146-50-00446 | G67: 서울특별시 | H67: 서대문구 | I67: (03752) 서울특별시 서대문구 경기대로9길 77 (충정로3가) 1층 오맘 | J67: 제조업 | K67: 3 | L67: https://smartstore.naver.com/o-mom | M67: 빅파워 | N67: 16298 | O67: 5184 | P67: X | R67: 유모차커버 | S67: 키즈 | T67: http://omom.co.kr/products/5406902382 | U67: 010-4151-2456 | V67: 010-2521-1290 | W67: aja1290@gmail.com | X67: 서울 | Y67: 오전 | Z67: 73.75 | AA67: 62 | AB67: ㅇ | AC67: ㅇ | AD67: ㅇ | AE67: ㅇ | AF67: ㅇ | AG67: =IFERROR(IF(VLOOKUP('숏클립(전체)'!D67,#REF!,1,FALSE)=D67,"A반"),"B반") -> B반 | AH67: 검토완료
B68: 16 | C68: 서울 | D68: 오호코퍼레이션 | E68: 이선형 | F68: 787-87-01859 | G68: 서울특별시 | H68: 금천구 | I68: (08501) 서울특별시 금천구 가마산로 96 (가산동, 대륭테크노타운8차) 1204, 316호 | J68: 도매 및 소매업 | K68: 3 | L68: https://smartstore.naver.com/denteenum | M68: 파워 | N68: 3777 | O68: 5317 | P68: O | Q68: https://shoppinglive.naver.com/channels/67695 | R68: 덴티넘 월간칫솔 미세모 칫솔 | S68: 라이프 | T68: https://smartstore.naver.com/denteenum/products/4734739736 | U68: 010-5019-5118 | V68: 010-2689-2912 | W68: ohocorp@ohocorp.kr | X68: 서울 | Y68: 오후 | Z68: 73.75 | AA68: 63 | AB68: ㅇ | AC68: ㅇ | AD68: ㅇ | AE68: ㅇ | AF68: ㅇ | AG68: =IFERROR(IF(VLOOKUP('숏클립(전체)'!D68,#REF!,1,FALSE)=D68,"A반"),"B반") -> B반 | AH68: 검토완료
B69: 50 | C69: 서울 | D69: 올은주얼리 | E69: 이진영 | F69: 287-21-01431 | G69: 서울특별시 | H69: 중구 | I69: (04529) 서울특별시 중구 남대문시장4길 27-6 (남창동, 송서스토리빌딩) 6층 603호 | J69: 도매 및 소매업 | K69: 1 | L69: https://smartstore.naver.com/alleun925 | M69: 빅파워 | N69: 17720 | O69: 4101 | P69: O | Q69: https://shoppinglive.naver.com/channels/77826 | R69: 스와로브스키 진주 비드 목걸이 | S69: 패션 | T69: https://smartstore.naver.com/alleun925/products/6023220136 | U69: 010-6482-2524 | V69: 070-4790-2524 | W69: alleun925@naver.com | X69: 서울 | Y69: 오전 | Z69: 73.5 | AA69: 64 | AB69: ㅇ | AC69: ㅇ | AD69: ㅇ | AE69: ㅇ | AF69: ㅇ | AG69: =IFERROR(IF(VLOOKUP('숏클립(전체)'!D69,#REF!,1,FALSE)=D69,"A반"),"B반") -> B반 | AH69: 검토완료
B70: 40 | C70: 서울 | D70: 옹고집발효원 | E70: 김은경 | F70: 440-48-00404 | G70: 강원도 | H70: 원주시 | I70: (26310) 강원도 원주시 소초면 황골로 270 (소초면) 1층 | J70: 제조업 | K70: - | L70: https://smartstore.naver.com/ong116 | M70: 파워 | N70: 2916 | O70: 3609 | P70: O | Q70: https://view.shoppinglive.naver.com/replays/602356 | R70: 전통 재래식 된장 | S70: 푸드 | T70: https://smartstore.naver.com/ong116/products/4553172263 | U70: 010-6762-5090 | V70: 010-7188-5090 | W70: dansan2000@naver.com | X70: 서울 | Y70: 오전 | Z70: 73.5 | AA70: 65 | AB70: ㅇ | AC70: ㅇ | AD70: ㅇ | AE70: 재제출요청 | AF70: ㅇ | AG70: =IFERROR(IF(VLOOKUP('숏클립(전체)'!D70,#REF!,1,FALSE)=D70,"A반"),"B반") -> B반 | AH70: 보완중 | AI70: 지방세 유효기간 8월 30일
B71: 91 | C71: 서울 | D71: 완벽한타이밍 | E71: 정웅경 | F71: 760-10-02002 | G71: 서울특별시 | H71: 광진구 | I71: (05041) 서울특별시 광진구 구의동 221-60 4층 | J71: 도매 및 소매업 | K71: 0 | L71: https://smartstore.naver.com/perfecttiming | M71: 파워 | N71: 1782 | O71: 831 | P71: O | Q71: https://view.shoppinglive.naver.com/replays/640061 | R71: 허브 아로마 마스크 | S71: 라이프 | T71: https://smartstore.naver.com/perfecttiming/products/5808592139 | U71: 010-9124-2813 | V71: - | W71: bradjeong1813@gmail.com | X71: 서울 | Y71: 오전 | Z71: 73.25 | AA71: 66 | AB71: 참여o, 6시까지 | AG71: =IFERROR(IF(VLOOKUP('숏클립(전체)'!D71,#REF!,1,FALSE)=D71,"A반"),"B반") -> B반 | AH71: 참여희망 | AI71: 교육불참 (B반)
B72: 79 | C72: 서울 | D72: 웨이리코리아 | E72: 김란 | F72: 546-88-01221 | G72: 서울특별시 | H72: 구로구 | I72: (08362) 서울특별시 구로구 부광로 88 (항동) 에이동 911호 | J72: 도매 및 소매업 | K72: 2 | L72: https://smartstore.naver.com/lovlh/products/6227104779 | M72: 파워 | N72: 6500 | O72: 855 | P72: X | R72: 끌리오 미니에어프라이어 | S72: 테크 | T72: https://smartstore.naver.com/lovlh/products/6227104779 | U72: 010-8579-0993 | V72: 010-2475-0993 | W72: weilikorea@weilikorea.co.kr | X72: 서울 | Y72: 오전 | Z72: 73.25 | AA72: 67 | AB72: 사업포기 | AG72: =IFERROR(IF(VLOOKUP('숏클립(전체)'!D72,#REF!,1,FALSE)=D72,"A반"),"B반") -> B반 | AH72: 포기신청 | AI72: 사업포기
B73: 74 | C73: 서울 | D73: 위드테이스트 | E73: 정성진 | F73: 136-10-83726 | G73: 서울특별시 | H73: 금천구 | I73: (08518) 서울특별시 금천구 가산동 238-32 1층 사무실(백미양식) | J73: 도매 및 소매업 | K73: 1 | L73: https://smartstore.naver.com/baekmi | M73: 빅파워 | N73: 42508 | O73: 22240 | P73: O | Q73: https://view.shoppinglive.naver.com/replays/157158?fm=shopping&sn=bsw | R73: 과일 외 농수산물 | S73: 푸드 | T73: https://smartstore.naver.com/baekmi/products/5613970421 | U73: 010-4332-5056 | V73: 010-3973-1002 | W73: withtaste@naver.com | X73: 서울 | Y73: 오후 | Z73: 73.25 | AA73: 68 | AB73: 30분 뒤 | AG73: =IFERROR(IF(VLOOKUP('숏클립(전체)'!D73,#REF!,1,FALSE)=D73,"A반"),"B반") -> B반 | AH73: 부재중 | AI73: 교육참석 (A반)
B74: 63 | C74: 서울 | D74: 유아이너프 | E74: 안은진 | F74: 889-88-02277 | G74: 경기도 | H74: 양주시 | I74: (11459) 경기도 양주시 고덕로 243 (고읍동) 3층 (고읍동,부길빌딩) 주식회사 유아이너프 | J74: 제조업 | K74: 3 | L74: https://smartstore.naver.com/urinnerf | M74: 빅파워 | N74: 9235 | O74: 5039 | P74: X | R74: 유아이너프 정착브라 | S74: 패션 | T74: https://smartstore.naver.com/urinnerf/products/4863409508 | U74: 010-9963-1293 | V74: 010-9963-1293 | W74: urinnerf@naver.com | X74: 서울 | Y74: 오후 | Z74: 73 | AA74: 69 | AB74: ㅇ | AC74: ㅇ | AD74: ㅇ | AE74: ㅇ | AF74: ㅇ | AG74: =IFERROR(IF(VLOOKUP('숏클립(전체)'!D74,#REF!,1,FALSE)=D74,"A반"),"B반") -> B반 | AH74: 검토완료
B75: 51 | C75: 서울 | D75: 윤씨네상점 | E75: 윤형석 | F75: 566-06-01501 | G75: 경기도 | H75: 안산시 | I75: (15399) 경기도 안산시 단원구 새뿔길 42 (신길동, 두산위브아파트) 101-701 | J75: 도매 및 소매업 | K75: 1 | L75: https://smartstore.naver.com/yuncnestore | M75: 파워 | N75: 3600 | O75: 2094 | P75: O | Q75: https://view.shoppinglive.naver.com/replays/636704?fm=shopping&sn=bsw | R75: 까사무띠 이중유리컵 | S75: 라이프 | T75: https://smartstore.naver.com/yuncnestore/products/6323424812 | U75: 010-2093-9141 | V75: 010-5013-9729 | W75: drjhy1982@naver.com | X75: 서울 | Y75: 오전 | Z75: 73 | AA75: 70 | AB75: ㅇ | AC75: ㅇ | AD75: ㅇ | AE75: ㅇ | AF75: ㅇ | AG75: =IFERROR(IF(VLOOKUP('숏클립(전체)'!D75,#REF!,1,FALSE)=D75,"A반"),"B반") -> B반 | AH75: 검토완료
B76: 45 | C76: 서울 | D76: 이리제 | E76: 장선희 | F76: 626-43-00395 | G76: 경기도 | H76: 용인시 | I76: (16898) 경기도 용인시 기흥구 죽전로 39 (보정동, 에스제이타워) 7층 701-2호 | J76: 도매 및 소매업 | K76: 0 | L76: https://smartstore.naver.com/iriser | M76: 파워 | N76: 5904 | O76: 7956 | P76: X | R76: 하트펜던트 | S76: 패션 | T76: https://smartstore.naver.com/iriser/products/6572730577 | U76: 010-2014-4030 | V76: 010-2014-4030 | W76: iriser_official@naver.com | X76: 서울 | Y76: 오전 | Z76: 73 | AA76: 71 | AB76: 참여o, 6시까지 | AG76: =IFERROR(IF(VLOOKUP('숏클립(전체)'!D76,#REF!,1,FALSE)=D76,"A반"),"B반") -> B반 | AH76: 참여희망 | AI76: 교육참석 (A반)
B77: 33 | C77: 서울 | D77: 이모가간다 | E77: 조미영 | F77: 224-21-08919 | G77: 강원도 | H77: 평창군 | I77: (25302) 강원도 평창군 봉평면 북길동길 100-9 (봉평면) 1층 | J77: 도매 및 소매업 | K77: - | L77: https://smartstore.naver.com/2mogo | M77: 빅파워 | N77: 20100 | O77: 12895 | P77: X | R77: 강원도 냉동 찰옥수수, 시래기 | S77: 푸드 | T77: https://smartstore.naver.com/2mogo/products/2395029795 | U77: 010-8790-8171 | V77: - | W77: whaldud88@naver.com | X77: 서울 | Y77: 오전 | Z77: 72.75 | AA77: 72 | AB77: ㅇ | AC77: ㅇ | AD77: ㅇ | AE77: ㅇ | AF77: ㅇ | AG77: =IFERROR(IF(VLOOKUP('숏클립(전체)'!D77,#REF!,1,FALSE)=D77,"A반"),"B반") -> B반 | AH77: 검토완료
B78: 71 | C78: 서울 | D78: 잭슨조아 | E78: 조성제 | F78: 398-18-01202 | G78: 경기도 | H78: 남양주시 | I78: (12284) 경기도 남양주시 다산지금로16번길 88 (다산동, 다산지금센트럴에일린의뜰) 7101동 602호 | J78: 도매 및 소매업 | K78: - | L78: https://smartstore.naver.com/jacksonjoa | M78: 빅파워 | N78: 7700 | O78: 1518 | P78: X | R78: 슬립 여성 레오파드 호피문양 잠옷 | S78: 패션 | T78: https://smartstore.naver.com/jacksonjoa/products/7101049389 | U78: 010-5768-8300 | V78: 010-6221-7840 | W78: whatever4545@naver.com | X78: 서울 | Y78: 오전 | Z78: 72.75 | AA78: 73 | AB78: ㅇ | AC78: ㅇ | AD78: ㅇ | AE78: ㅇ | AF78: ㅇ | AG78: =IFERROR(IF(VLOOKUP('숏클립(전체)'!D78,#REF!,1,FALSE)=D78,"A반"),"B반") -> B반 | AH78: 검토완료
B79: 20 | C79: 서울 | D79: 제이아이티그룹 | E79: 조예나 | F79: 209-17-78781 | G79: 서울특별시 | H79: 동작구 | I79: (06938) 서울특별시 동작구 노량진로 10 (대방동, 여성가족복합시설 스페이스살림) 601 | J79: 제조업 | K79: 4 | L79: https://smartstore.naver.com/keepintouchmall | M79: 파워 | N79: 2870 | O79: 4642 | P79: O | R79: 젤리 립플럼퍼틴트 | S79: 뷰티 | T79: https://smartstore.naver.com/keepintouchmall/products/2425934587 | U79: 010-7746-1976 | V79: 070-7424-3355 | W79: jeannie03@gmail.com | X79: 서울 | Y79: 오후 | Z79: 72.75 | AA79: 74 | AB79: 참여o, 6시까지 | AG79: =IFERROR(IF(VLOOKUP('숏클립(전체)'!D79,#REF!,1,FALSE)=D79,"A반"),"B반") -> B반 | AH79: 참여희망 | AI79: 교육참석 (B반)
B80: 5 | C80: 서울 | D80: 제철홍어무침꽃게장 | E80: 김윤미 | F80: 740-30-00726 | G80: 인천광역시 | H80: 미추홀구 | I80: (22209) 인천광역시 미추홀구 인주대로 258 (용현동) 1층 | J80: 숙박 및 음식점업 | K80: 3 | L80: https://smartstore.naver.com/iccrab1 | M80: 빅파워 | N80: 16467 | O80: 4552 | P80: O | Q80: https://shoppinglive.naver.com/search?query=%EC%A0%9C%EC%B2%A0%ED%99%8D%EC%96%B4%EB%AC%B4%EC%B9%A8%EA%BD%83%EA%B2%8C%EC%9E%A5 | R80: 양념게장 외 수산물 | S80: 푸드 | T80: https://smartstore.naver.com/iccrab1/products/4473819480 | U80: 010-3500-0831 | V80: 010-3500-0831 | W80: lovelyyun0831@naver.com | X80: 서울 | Y80: 오전 | Z80: 72.5 | AA80: 75 | AB80: ㅇ | AC80: ㅇ | AD80: ㅇ | AE80: ㅇ | AF80: ㅇ | AG80: =IFERROR(IF(VLOOKUP('숏클립(전체)'!D80,#REF!,1,FALSE)=D80,"A반"),"B반") -> B반 | AH80: 검토완료
B81: 19 | C81: 서울 | D81: 조이앤맘 | E81: 강민정 | F81: 893-41-00837 | G81: 경기도 | H81: 용인시 | I81: (16937) 경기도 용인시 수지구 상현로 67-12 (상현동, 상현마을 금호베스트빌 4단지) 132동 1601호 | J81: 도매 및 소매업 | K81: 0 | L81: https://smartstore.naver.com/joyandmom | M81: 빅파워 | N81: 23624 | O81: 4257 | P81: O | Q81: https://view.shoppinglive.naver.com/replays/533061 | R81: 여성 의류 및 악세사리 | S81: 패션 | T81: https://smartstore.naver.com/joyandmom/products/6942279331 | U81: 010-3551-7011 | V81: 010-2402-1276 | W81: mnnjgg@gmail.com | X81: 서울 | Y81: 오후 | Z81: 72.5 | AA81: 76 | AB81: ㅇ | AC81: ㅇ | AD81: ㅇ | AE81: ㅇ | AF81: ㅇ | AG81: =IFERROR(IF(VLOOKUP('숏클립(전체)'!D81,#REF!,1,FALSE)=D81,"A반"),"B반") -> B반 | AH81: 검토완료
B82: 29 | C82: 서울 | D82: 직송 | E82: 김진곤 | F82: 244-87-00111 | G82: 서울특별시 | H82: 영등포구 | I82: (07439) 서울특별시 영등포구 디지털로70길 18-2 (대림동) 201호 | J82: 도매 및 소매업 | K82: 1 | L82: https://smartstore.naver.com/zic | M82: 파워 | N82: 5939 | O82: 9967 | P82: X | R82: 괴산 장연 냉동 대학찰옥수수 | S82: 푸드 | T82: https://smartstore.naver.com/zic/products/2074272837 | U82: 010-8808-2537 | V82: 010-4453-1518 | W82: ceo2537@naver.com | X82: 서울 | Y82: 오후 | Z82: 72.25 | AA82: 77 | AB82: ㅇ | AC82: ㅇ | AD82: ㅇ | AE82: ㅇ | AF82: ㅇ | AG82: =IFERROR(IF(VLOOKUP('숏클립(전체)'!D82,#REF!,1,FALSE)=D82,"A반"),"B반") -> B반 | AH82: 검토완료
B83: 58 | C83: 서울 | D83: 청명 | E83: 윤혜진 | F83: 441-53-00473 | G83: 서울특별시 | H83: 영등포구 | I83: (07380) 서울특별시 영등포구 도림로 313 (신길동, 건영아파트) 가동 1105호 | J83: 도매 및 소매업 | K83: 0 | L83: https://smartstore.naver.com/welcometomypet | M83: 빅파워 | N83: 13909 | O83: 8817 | P83: X | R83: DIY 강아지 발도장 액자 | S83: 라이프 | T83: https://smartstore.naver.com/welcometomypet/products/4262779198 | U83: 010-4490-7701 | V83: 010-9832-1189 | W83: hjyun7319@naver.com | X83: 서울 | Y83: 오후 | Z83: 72.25 | AA83: 78 | AB83: 참여o, 6시까지 | AG83: =IFERROR(IF(VLOOKUP('숏클립(전체)'!D83,#REF!,1,FALSE)=D83,"A반"),"B반") -> B반 | AH83: 참여희망 | AI83: 교육참석 (B반)
B84: 84 | C84: 서울 | D84: 청춘양말 | E84: 봉미연 | F84: 726-45-00379 | G84: 경기도 | H84: 성남시 | I84: (13388) 경기도 성남시 중원구 원터로 24-1 (하대원동) 1층 | J84: 도매 및 소매업 | K84: - | L84: https://smartstore.naver.com/socksroo25 | M84: 파워 | N84: 5130 | O84: 5047 | P84: X | R84: 스포츠양말 | S84: 패션 | T84: https://smartstore.naver.com/socksroo25/products/3606940926 | U84: 010-4414-2375 | W84: dkf4321@naver.com | X84: 서울 | Y84: 오후 | Z84: 72.25 | AA84: 79 | AB84: 참여o, 6시까지 | AG84: =IFERROR(IF(VLOOKUP('숏클립(전체)'!D84,#REF!,1,FALSE)=D84,"A반"),"B반") -> B반 | AH84: 참여희망 | AI84: 교육참석 (A반)
B85: 22 | C85: 서울 | D85: 콩이밥본점 | E85: 강인걸 | F85: 658-26-00338 | G85: 경기도 | H85: 광명시 | I85: (14326) 경기도 광명시 기아로 25-1 (소하동) 지하 | J85: 제조업 | K85: 2 | L85: https://smartstore.naver.com/kongibab1 | M85: 파워 | N85: 3838 | O85: 1931 | P85: O | Q85: https://shoppinglive.naver.com/replays/623954?fm=shoppinglive&sn=home | R85: 코다리조림 | S85: 푸드 | T85: https://smartstore.naver.com/kongibab1/products/5580363963 | U85: 010-5471-1344 | V85: 010-9266-1324 | W85: mug0023@naver.com | X85: 서울 | Y85: 오후 | Z85: 72.25 | AA85: 80 | AB85: ㅇ | AC85: ㅇ | AD85: ㅇ | AE85: ㅇ | AF85: ㅇ | AG85: =IFERROR(IF(VLOOKUP('숏클립(전체)'!D85,#REF!,1,FALSE)=D85,"A반"),"B반") -> B반 | AH85: 검토완료
B86: 17 | C86: 서울 | D86: 큰강아지 | E86: 강혁 | F86: 544-15-01255 | G86: 경기도 | H86: 안산시 | I86: (15286) 경기도 안산시 상록구 안산천동로1길 10 (월피동, 주공3단지아파트) 308동 501호 | J86: 도매 및 소매업 | K86: 1 | L86: https://smartstore.naver.com/bigdoggy | M86: 빅파워 | N86: 17410 | O86: 9904 | P86: O | Q86: https://view.shoppinglive.naver.com/replays/211110?fm=shopping&sn=bsw | R86: 강아지 빗 | S86: 라이프 | T86: https://smartstore.naver.com/bigdoggy/products/4793237345 | U86: 010-6380-8893 | V86: 010-9970-7834 | W86: junhyok1@naver.com | X86: 서울 | Y86: 오전 | Z86: 72 | AA86: 81 | AB86: 참여o, 6시까지 | AG86: =IFERROR(IF(VLOOKUP('숏클립(전체)'!D86,#REF!,1,FALSE)=D86,"A반"),"B반") -> B반 | AH86: 참여희망 | AI86: 교육참석 (B반)
B87: 7 | C87: 서울 | D87: 토토와모모 | E87: 성정진 | F87: 204-09-33635 | G87: 서울특별시 | H87: 중랑구 | I87: (02101) 서울특별시 중랑구 중랑역로 89 (중화동) 201호 | J87: 도매 및 소매업 | K87: 3 | L87: http://smartstore.naver.com/totomomo | M87: 빅파워 | N87: 11615 | O87: 14329 | P87: O | Q87: https://view.shoppinglive.naver.com/replays/614389 | R87: 잠옷 | S87: 패션 | T87: https://smartstore.naver.com/totomomo/products/6721066661 | U87: 010-9556-0425 | V87: 010-4580-4162 | W87: kikijjs@naver.com | X87: 서울 | Y87: 오전 | Z87: 72 | AA87: 82 | AB87: ㅇ | AC87: ㅇ | AD87: ㅇ | AE87: ㅇ | AF87: ㅇ | AG87: =IFERROR(IF(VLOOKUP('숏클립(전체)'!D87,#REF!,1,FALSE)=D87,"A반"),"B반") -> B반 | AH87: 검토완료
B88: 44 | C88: 서울 | D88: 톡톡 | E88: 조연식 | F88: 573-28-01175 | G88: 인천광역시 | H88: 연수구 | I88: (22003) 인천광역시 연수구 센트럴로 194 (송도동, 더샵 센트럴파크2) 202-4003 | J88: 도매 및 소매업 | K88: - | L88: https://m.smartstore.naver.com/flyingmama | M88: 빅파워 | N88: 10347 | O88: 2264 | P88: O | Q88: https://view.shoppinglive.naver.com/replays/340970?fm=shoppinglive&sn=share | R88: 빅포켓골프반바지 | S88: 패션 | T88: https://smartstore.naver.com/flyingmama/products/5698675421 | U88: 010-6737-2286 | V88: 010-6232-2286 | W88: yeon8a@naver.com | X88: 서울 | Y88: 오후 | Z88: 71.75 | AA88: 83 | AB88: ㅇ | AC88: ㅇ | AD88: ㅇ | AE88: ㅇ | AF88: ㅇ | AG88: =IFERROR(IF(VLOOKUP('숏클립(전체)'!D88,#REF!,1,FALSE)=D88,"A반"),"B반") -> B반 | AH88: 검토완료
B89: 80 | C89: 서울 | D89: 팅클유 | E89: 박유미 | F89: 121-22-95335 | G89: 서울특별시 | H89: 마포구 | I89: (03984) 서울특별시 마포구 연남동 257-4 팅클유 | J89: 도매 및 소매업 | K89: 2 | L89: https://smartstore.naver.com/tingklu | M89: 파워 | N89: 4000 | O89: 13218 | P89: O | Q89: https://view.shoppinglive.naver.com/liveclips/1812078?broadcastId=650042&fm=shopping&sn=prlim&tr=prlim | R89: 인센스 | S89: 라이프 | T89: https://smartstore.naver.com/tingklu/products/6063346815 | U89: 010-7101-0984 | V89: 010-7101-0984 | W89: tingklu@naver.com | X89: 서울 | Y89: 오후 | Z89: 71.75 | AA89: 84 | AB89: 참여o, 6시까지 | AG89: =IFERROR(IF(VLOOKUP('숏클립(전체)'!D89,#REF!,1,FALSE)=D89,"A반"),"B반") -> B반 | AH89: 참여희망 | AI89: 교육불참 (B반)
B90: 90 | C90: 서울 | D90: 퍼스트골프 | E90: 태경호 | F90: 239-34-01276 | G90: 경기도 | H90: 성남시 | I90: (13557) 경기도 성남시 분당구 정자일로 177 (정자동, 인텔리지Ⅱ) C동3003호 | J90: 도매 및 소매업 | K90: 3 | L90: https://smartstore.naver.com/firstgolfmarket | M90: 빅파워 | N90: 31100 | O90: 1124 | P90: O | Q90: https://shoppinglive.naver.com/channels/91037 | R90: 골프용품 | S90: 취미 | T90: https://smartstore.naver.com/firstgolfmarket/products/6907081707 | U90: 010-6816-6559 | V90: - | W90: tkh2022@naver.com | X90: 서울 | Y90: 오후 | Z90: 71.25 | AA90: 85 | AG90: =IFERROR(IF(VLOOKUP('숏클립(전체)'!D90,#REF!,1,FALSE)=D90,"A반"),"B반") -> B반 | AH90: 자격미달 | AI90: 소상공인 확인서 발급불가
B91: 34 | C91: 서울 | D91: 평창자연다옴 | E91: 백승만 | F91: 170-57-00225 | G91: 강원도 | H91: 평창군 | I91: (25315) 강원도 평창군 용평면 경강로 1634 (용평면) 나동 | J91: 제조업 | K91: 2 | L91: https://smartstore.naver.com/pcnature | M91: 파워 | N91: 4474 | O91: 2258 | P91: O | Q91: https://shoppinglive.naver.com/replays/592817?fm=shoppinglive&sn=home | R91: 국내산 3-6년근 도라지 약도라지 | S91: 푸드 | T91: https://smartstore.naver.com/pcnature/products/4865012697 | U91: 010-3851-4677 | V91: 010-4820-4677 | W91: 4749353@hanmail.net | X91: 서울 | Y91: 오후 | Z91: 71.25 | AA91: 86 | AB91: 참여ㅇ, 6시까지 | AG91: =IFERROR(IF(VLOOKUP('숏클립(전체)'!D91,#REF!,1,FALSE)=D91,"A반"),"B반") -> B반 | AH91: 참여희망 | AI91: 교육참석 (A반)
B92: 94 | C92: 서울 | D92: 프로젝트A | E92: 변희자 | F92: 747-58-00319 | G92: 서울특별시 | H92: 마포구 | I92: (03959) 서울특별시 마포구 망원동 432-27 2층 | J92: 도매 및 소매업 | K92: 2 | L92: https://smartstore.naver.com/appealing00 | M92: 파워 | N92: 2282 | O92: 1972 | P92: X | R92: 여성의류신상품및재고상품 | S92: 패션 | T92: https://smartstore.naver.com/appealing00/products/7073725003 | U92: 010-2716-1126 | V92: 010-4503-8730 | W92: appealing.co.kr@gmail.com | X92: 서울 | Y92: 오후 | Z92: 71.25 | AA92: 87 | AB92: ㅇ | AC92: ㅇ | AD92: ㅇ | AE92: ㅇ | AF92: ㅇ | AG92: =IFERROR(IF(VLOOKUP('숏클립(전체)'!D92,#REF!,1,FALSE)=D92,"A반"),"B반") -> B반 | AH92: 검토완료 | AI92: 동점자(지원적합성, 제품경쟁력 합계 점수 156)
B93: 23 | C93: 서울 | D93: 플레로 | E93: 한수희 | F93: 373-11-01354 | G93: 서울특별시 | H93: 강남구 | I93: (06234) 서울특별시 강남구 테헤란로 128 (역삼동, 성곡빌딩) 3층 379호 | J93: 도매 및 소매업 | K93: 0 | L93: https://m.smartstore.naver.com/pleroo | M93: 파워 | N93: 4000 | O93: 1138 | P93: O | R93: 시노글라스 오일병 세트 | S93: 라이프 | T93: https://m.smartstore.naver.com/pleroo/products/5818602838 | U93: 010-3576-6809 | V93: 010-3576-6809 | W93: pleroo2020@naver.com | X93: 서울 | Y93: 오후 | Z93: 71.25 | AA93: 88 | AB93: 참여o, 6시까지 | AG93: =IFERROR(IF(VLOOKUP('숏클립(전체)'!D93,#REF!,1,FALSE)=D93,"A반"),"B반") -> B반 | AH93: 참여희망 | AI93: 교육참석 (B반)
B94: 92 | C94: 서울 | D94: 피스스페이스 | E94: 백찬영 | F94: 157-13-01718 | G94: 경기도 | H94: 구리시 | I94: (11918) 경기도 구리시 건원대로 87 (인창동, 백영빌딩) 402호 피스 스페이스 | J94: 도매 및 소매업 | K94: - | L94: https://smartstore.naver.com/peace_space | M94: 파워 | N94: 2300 | O94: 1384 | P94: X | R94: 레더 키높이 첼시부츠 | S94: 패션 | T94: https://smartstore.naver.com/peace_space/products/5378191897 | U94: 010-6314-7055 | V94: 010-6314-7055 | W94: peace_space@naver.com | X94: 서울 | Y94: 오후 | Z94: 71 | AA94: 89 | AB94: ㅇ | AC94: ㅇ | AD94: ㅇ | AE94: ㅇ | AF94: ㅇ | AG94: =IFERROR(IF(VLOOKUP('숏클립(전체)'!D94,#REF!,1,FALSE)=D94,"A반"),"B반") -> B반 | AH94: 검토완료
B95: 68 | C95: 서울 | D95: 하이멜로우 | E95: 김서지 | F95: 302-21-00070 | G95: 서울특별시 | H95: 강남구 | I95: (06161) 서울특별시 강남구 선릉로 524 (삼성동, 선릉대림아크로텔) 620호 | J95: 도매 및 소매업 | K95: 0 | L95: https://smartstore.naver.com/himellow | M95: 파워 | N95: 2146 | O95: 5147 | P95: O | R95: 세인트 티셔츠 | S95: 키즈 | T95: https://smartstore.naver.com/himellow/products/5081225958 | U95: 010-7913-7794 | V95: 070-7938-6226 | W95: ryoko02@naver.com | X95: 서울 | Y95: 오전 | Z95: 71 | AA95: 90 | AD95: ㅇ | AE95: ㅇ | AF95: ㅇ | AG95: =IFERROR(IF(VLOOKUP('숏클립(전체)'!D95,#REF!,1,FALSE)=D95,"A반"),"B반") -> B반 | AH95: 보완중 | AI95: 소상공인 확인서 미제출
B96: 76 | C96: 서울 | D96: 한라비 | E96: 박형진 | F96: 324-81-00598 | G96: 경기도 | H96: 성남시 | I96: (13199) 경기도 성남시 중원구 금상로67번길 3 (금광동) 102호 | J96: 도매 및 소매업 | K96: 2 | L96: https://smartstore.naver.com/c2cotton | M96: 빅파워 | N96: 21000 | O96: 173 | P96: O | Q96: https://view.shoppinglive.naver.com/replays/107940 | R96: 일회용 전자렌지냄비 한라비 | S96: 라이프 | T96: https://smartstore.naver.com/c2cotton/products/5630178721 | U96: 010-4786-8515 | V96: 031-735-0515 | W96: sman8282@empas.com | X96: 서울 | Y96: 오후 | Z96: 70.75 | AA96: 91 | AB96: ㅇ | AC96: ㅇ | AD96: 재제출요청 | AE96: ㅇ | AF96: ㅇ | AG96: =IFERROR(IF(VLOOKUP('숏클립(전체)'!D96,#REF!,1,FALSE)=D96,"A반"),"B반") -> B반 | AH96: 보완중 | AI96: 전화해서 국세 재요청해야함
B97: 93 | C97: 서울 | D97: 혜원농장 | E97: 유규재 | F97: 107-08-17787 | G97: 강원도 | H97: 춘천시 | I97: (24248) 강원도 춘천시 소양정길 33 (소양로1가) | J97: 제조업 | K97: 0 | L97: https://smartstore.naver.com/hwchunma | M97: 파워 | N97: 9260 | O97: 2863 | P97: X | R97: 생천마,히카마 | S97: 푸드 | T97: https://smartstore.naver.com/hwchunma/products/4696461002 | U97: 010-8705-8505 | V97: 010-4214-9746 | W97: hwchunma@naver.com | X97: 서울 | Y97: 오전 | Z97: 70.75 | AA97: 92 | AG97: =IFERROR(IF(VLOOKUP('숏클립(전체)'!D97,#REF!,1,FALSE)=D97,"A반"),"B반") -> B반 | AH97: 포기신청 | AI97: 사업포기
B98: 35 | C98: 서울 | D98: 화인 | E98: 한주호 | F98: 209-10-55872 | G98: 경기도 | H98: 안양시 | I98: (14055) 경기도 안양시 동안구 시민대로327번길 11-41 (관양동) 창업지원센터 701 | J98: 제조업 | K98: 0 | L98: https://smartstore.naver.com/hwain | M98: 파워 | N98: 6501 | O98: 4143 | P98: O | Q98: https://view.shoppinglive.naver.com/replays/575407 | R98: 몽샤 워셔블 메모리폼 경추베개 | S98: 라이프 | T98: https://smartstore.naver.com/hwain/products/4745013615 | U98: 010-8619-2620 | V98: 02-914-3793 | W98: roxxey@hanmail.net | X98: 서울 | Y98: 오전 | Z98: 70 | AA98: 93 | AB98: 참여o, 월까지 | AG98: =IFERROR(IF(VLOOKUP('숏클립(전체)'!D98,#REF!,1,FALSE)=D98,"A반"),"B반") -> B반 | AH98: 참여희망 | AI98: 교육참석 (B반)
B99: 36 | C99: 서울 | D99: 휴먼거스 | E99: 유상준 | F99: 216-87-00417 | G99: 서울특별시 | H99: 영등포구 | I99: (07294) 서울특별시 영등포구 선유로 70 (문래동3가, 우리벤처타운2) 807호 | J99: 도매 및 소매업 | K99: 3 | L99: https://smartstore.naver.com/humongous | M99: 빅파워 | N99: 6000 | O99: 33087 | P99: O | Q99: https://view.shoppinglive.naver.com/replays/596087 | R99: 국내산 저염 저당 수제 도시락 10종 | S99: 푸드 | T99: https://smartstore.naver.com/humongous/products/6864035039 | U99: 010-7777-4200 | V99: 010-6256-8808 | W99: humongous@humongous.co.kr | X99: 서울 | Y99: 오후 | Z99: 69.5 | AA99: 94 | AC99: ㅇ | AD99: ㅇ | AE99: ㅇ | AF99: ㅇ | AG99: =IFERROR(IF(VLOOKUP('숏클립(전체)'!D99,#REF!,1,FALSE)=D99,"A반"),"B반") -> B반 | AH99: 검토완료 | AI99: 사업자등록증 누락
B100: 96 | C100: 부산 | D100: 골드씨영어조합법인 | E100: 황금식 | F100: 372-86-02265 | G100: 경상북도 | H100: 울진군 | I100: (36312) 경상북도 울진군 북면 울진북로 1693-8 (북면) GOLD SEA | J100: 제조업 | K100: 6 | L100: https://smartstore.naver.com/1goldsea | M100: 빅파워 | N100: 95000 | O100: 103232 | P100: O | Q100: https://shoppinglive.naver.com/channels/80311 | R100: 수산물 | S100: 푸드 | T100: https://smartstore.naver.com/1goldsea/products/5887754321 | U100: 010-3833-1544 | V100: 010-3833-1544 | W100: goldsea33@naver.com | X100: 부산 | Y100: 오후 | Z100: 80.75 | AA100: 95 | AG100: =IFERROR(IF(VLOOKUP('숏클립(전체)'!D100,#REF!,1,FALSE)=D100,"A반"),"B반") -> B반 | AH100: 포기신청 | AI100: 사업포기
...

Sheet 소상공인 리스트
B1: ■ 소상공인 리스트
B2: No. | C2: 연도 | D2: 참여 사업명 | E2: 사업체 현황 | N2: 연락처 | S2: 판로현황 | W2: 대표상품 | AA2: 서류제출 | AD2: 평가결과 | AG2: 참여현황 | AH2: 특이사항
E3: 업체명 | F3: 대표자 | G3: 사업자번호 | H3: 업종 (업태) | I3: 상시 근로자 | J3: 소재지 | M3: 홈페이지/SNS | N3: 대표번호 | O3: 대표자 | Q3: 담당자 | S3: 판매채널(개) | U3: 매출액(원) | W3: 품목 | X3: 상품명 | Y3: 생산방법 (선택클릭) | Z3: 사이트링크 | AA3: 사업자 등록증 | AB3: 개인정보 동의서 | AC3: 참여 신청서 | AD3: 점수 | AE3: 순위 | AF3: 선정여부
J4: 특별시/광역시/도 (선택클릭) | K4: 시/군/구 | L4: 이하 주소 | O4: 휴대폰 | P4: 이메일 | Q4: 휴대폰 | R4: 이메일 | S4: 온라인 | T4: 오프라인 | U4: 전년도 | V4: 참여년도
B5: 1
B6: 2
B7: 3
B8: 4
B9: 5
B10: 6
B11: 7
B12: 8
B13: 9
B14: 10
B15: 11
B16: 12
... B154: 150

Sheet 신청서 양식(경쟁력강화)
C3: 2023년 경쟁력 강화 패키지 참여 신청서 (자사몰 구축 및 활성화)
C5: 1. 사업체 현황
C6: 기본현황 (사업자등록증) | D6: 업 체 명 | G6: 대표자명
D7: 사업자번호 | G7: 업종
D8: 사업장소재지 | E8: 선택(클릭) | F8: 시/군/구 | G8: 이하주소
D9: 상시 근로자수 | E9: 선택(클릭) | G9: 홈페이지/SNS
C10: 연락처 | D10: 대표자 | G10: 담당자 * 없을 경우 대표자만 입력
D11: 성명 | G11: 성명 및 직함
D12: 휴대폰 번호 | G12: 휴대폰 번호
D13: 이메일 | G13: 이메일
C15: 2. 사전 현황 조사
C16: 자사몰 보유 여부 | D16: 선택(클릭) | G16: 자사몰 주소 (보유 중인 경우)
C17: 자사몰 운영인력 현황/계획 | D17: 선택(클릭) | G17: 월평균 자사몰 매출 (보유 중인 경우) | H17: 선택(클릭)
C18: 온라인 판매 시작시점 | D18: 선택(클릭) | G18: 자사몰 이관 필요 여부 (보유 중인 경우) | H18: 선택(클릭)
C20: 3. 온라인 판로현황 * 채녈별 매출액은 전년도 대략적인 금액 기입
C21: 총 온라인 판매채널 | D21: 0
C22: 판매상품 종류 | D22: 0
C23: 대표 판매채널 | D23: 스마트스토어 | E23: G마켓
C24: 전년도 매출액 | D24: 00백만원 | E24: 00백만원
C25: 스토어 링크
C27: 4. 전년도 기업 매출액
C28: 0
C29: * 온오프라인 관계 없이 기업 매출 기입 * 손익계산서 매출 등 참조
C31: 5. 지원 배경 및 필요성 * 본 사업에 참여하고자 하는 배경과 필요한 이유
C34: 6. 참여 후 목표 * 자사몰 성장 목표 및 계획 등
C37: 7. 브랜드 및 대표 상품 소개
C38: 브랜드 소개 * 자사 브랜드 보유 시 작성 | D38: 브랜드 개요 | H38: 참고사진
D39: 브랜드 특장점
C40: 대표상품 1 | D40: 상품명 | G40: 소비자가(VAT포함) | K40: 가급적 낮은 용량 사진 사용 / 자세한 내용은 제품 사이트 링크를 통해 확인 예정
D41: 특장점 | K41: 사진 넣는 방법
D42: 사이트링크 | G42: 제조/유통방법 | H42: 선택(클릭)
D43: 제품 이미지 | G43: 제품 이미지
C44: 대표상품 2 | D44: 상품명 | G44: 소비자가(VAT포함)
D45: 특장점
D46: 사이트링크 | G46: 제조/유통방법 | H46: 선택(클릭)
D47: 제품 이미지 | G47: 제품 이미지
C48: 대표상품 3 | D48: 상품명 | G48: 소비자가(VAT포함)
D49: 특장점
D50: 사이트링크 | G50: 제조/유통방법 | H50: 선택(클릭)
D51: 제품 이미지 | G51: 제품 이미지
C82: 선택(클릭) | D82: 선택(클릭) | E82: 선택(클릭) | F82: 선택(클릭) | G82: 선택(클릭) | H82: 선택(클릭)
C83: 시작예정 | D83: 5개 미만 | E83: 서울시 | F83: 제조업 | G83: 0 | H83: 자체생산
C84: 6개월 이내 | D84: 10개 미만 | E84: 부산시 | F84: 도매 및 소매업 | G84: 1 | H84: OEM
C85: 1년 이내 | D85: 30개 미만 | E85: 대구시 | F85: 도매업 | G85: 2 | H85: ODM
C86: 3년 이내 | D86: 50개 미만 | E86: 인천시 | F86: 소매업 | G86: 3 | H86: 사입
C87: 5년 이내 | D87: 50개 초과 | E87: 광주시 | F87: 서비스업 | G87: 4 | H87: 수입판매
C88: 5년 이상 | E88: 대전시 | F88: 출판업 | G88: 5 | H88: 해외직구
E89: 울산시 | F89: 건설업 | G89: 6 | H89: 위탁판매
C90: 선택(클릭) | D90: 선택(클릭) | E90: 세종시 | F90: 광업 | G90: 7 | H90: 기타
C91: 없음 | D91: 미보유 | E91: 경기도 | F91: 교육 서비스업 | G91: 8
C92: 10만원 미만 | D92: 보유(운영중) | E92: 강원도 | F92: 금융 및 보험업 | G92: 9
C93: 50만원 미만 | D93: 보유(미운영) | E93: 충청북도 | F93: 농업, 임업 및 어업 | G93: 10명 이상
C94: 100만원 미만 | E94: 충청남도 | F94: 보건업
C95: 500만원 미만 | D95: 선택(클릭) | E95: 전라북도 | F95: 보건업 및 사회복지 서비스업
C96: 1000만원 미만 | D96: 대표자 직접 | E96: 전라남도 | F96: 부동산업
C97: 3000만원 미만 | D97: 운영 직원 | E97: 경상북도 | F97: 사회복지 서비스업
C98: 3000만원 초과 | D98: 외주위탁 | E98: 경상남도 | F98: 수도, 하수 및 폐기물 처리, 원료 재생업
D99: 기타 | E99: 제주도 | F99: 숙박 및 음식점업
F100: 숙박업
D101: 선택(클릭) | F101: 예술, 스포츠 및 여가관련 서비스업
D102: 예 | F102: 운수 및 창고업
D103: 아니오 | F103: 음식점업
F104: 전기, 가스, 증기 및 공기 조절 공급업
F105: 정보통신업
F106: 협회 및 단체, 수리 및 기타 개인 서비스업
F107: 기타

Sheet 신청서 양식(O2O)
C3: 2023년 O2O플랫폼 입점지원 참여 신청서
C5: 1. 참여 신청 플랫폼(앱) * 1개만 선택 가능 (박스칸 클릭)
C6: 플랫폼
C8: 2. 사업체 현황
C9: 기본현황 (사업자등록증) | D9: 업 체 명 | G9: 대표자명
D10: 사업자번호 | G10: 업종
D11: 사업장소재지 | E11: 선택(클릭) | F11: 시/군/구 | G11: 이하주소
D12: 상시 근로자수 | E12: 선택(클릭) | G12: 홈페이지/SNS
C13: 연락처 | D13: 대표자 | G13: 담당자 * 없을 경우 대표자만 입력
D14: 성명 | G14: 성명 및 직함
D15: 휴대폰 번호 | G15: 휴대폰 번호
D16: 이메일 | G16: 이메일
C18: 3. 온라인 판로현황 * 채녈별 매출액은 전년도 대략적인 금액 기입 | G18: 4. 전년도 기업 매출액 (단위: 원)
C19: 온라인 판매채널 수 | D19: 대표 채널별 연매출액 (스마트스토어, G마켓 등) | G19: 000,000,000원
D20: 스마트스토어
C21: 00개 | D21: 00백만원(전년도) | G21: * 온오프라인 관계 업이 기업 매출 기입 * 손익계산서 매출 등 참조
C23: 5. 참여 배경 및 목표 * 본 사업에 참여하고자 하는 배경과 얻고자 하는 목표를 상세히 기술 (600자 이내)
C26: 6. 대표상품 소개 (최대 2개)
C27: 대표상품 1 | D27: 상품명 | G27: 소비자가(VAT포함)
D28: 특장점
D29: 사이트링크 | G29: 제조/유통방법 | H29: 선택(클릭) | L29: 가급적 낮은 용량 사진 사용 / 자세한 내용은 제품 사이트 링크를 통해 확인 예정
D30: 제품사진 | G30: 제품사진 | L30: 사진 넣는 방법
C31: 대표상품 2 | D31: 상품명 | G31: 소비자가(VAT포함)
D32: 특장점
D33: 사이트링크 | G33: 제조/유통방법 | H33: 선택(클릭)
D34: 제품사진 | G34: 제품사진
C52: 선택(클릭) | E52: 선택(클릭) | F52: 선택(클릭) | G52: 선택(클릭) | H52: 선택(클릭)
E53: 서울시 | F53: 제조업 | G53: 0 | H53: 자체생산
E54: 부산시 | F54: 도매 및 소매업 | G54: 1 | H54: OEM
E55: 대구시 | F55: 도매업 | G55: 2 | H55: ODM
E56: 인천시 | F56: 소매업 | G56: 3 | H56: 사입
E57: 광주시 | F57: 서비스업 | G57: 4 | H57: 수입판매
E58: 대전시 | F58: 출판업 | G58: 5 | H58: 해외직구
E59: 울산시 | F59: 건설업 | G59: 6 | H59: 위탁판매
E60: 세종시 | F60: 광업 | G60: 7 | H60: 기타
E61: 경기도 | F61: 교육 서비스업 | G61: 8
E62: 강원도 | F62: 금융 및 보험업 | G62: 9
E63: 충청북도 | F63: 농업, 임업 및 어업 | G63: 10명 이상
E64: 충청남도 | F64: 보건업
E65: 전라북도 | F65: 보건업 및 사회복지 서비스업
E66: 전라남도 | F66: 부동산업
E67: 경상북도 | F67: 사회복지 서비스업
E68: 경상남도 | F68: 수도, 하수 및 폐기물 처리, 원료 재생업
E69: 제주도 | F69: 숙박 및 음식점업
F70: 숙박업
F71: 예술, 스포츠 및 여가관련 서비스업
F72: 운수 및 창고업
F73: 음식점업
F74: 전기, 가스, 증기 및 공기 조절 공급업
F75: 정보통신업
F76: 협회 및 단체, 수리 및 기타 개인 서비스업
F77: 기타

Sheet 신청서 양식(판판셀러)
C3: 판판셀러 연계지원 신청서
C5: 1. 사업체 현황
C6: 기본현황 (사업자등록증 기준) | D6: 업 체 명 | G6: 대표자명
D7: 사업자번호 | E7: 000-00-00000 | G7: 업종 | H7: 선택(클릭)
D8: 사업장소재지 | E8: 선택(클릭)
D9: 상시 근로자수 | E9: 선택(클릭) | G9: 홈페이지/SNS
C10: 연락처 | D10: 대표자 | G10: 담당자 * 없을 경우 대표자만 입력
D11: 성명 | G11: 성명 및 직함
D12: 휴대폰 번호 | G12: 휴대폰 번호
D13: 이메일 | G13: 이메일
C16: 2. 온라인 판로현황 * 채녈별 매출액은 전년도 대략적인 금액 기입
C17: 현재 판매중인 온라인 채널 개수 | E17: 0개
C18: 대표 판매채널
C19: 전년도 매출액
C20: 스토어 링크
C22: 3. 전년도 기업 매출액 * 온오프라인 관계 없이 기업 매출 기입 * 손익계산서 매출 등 참조
C25: 4. 신청목적 * 본 사업에 참여하고자 하는 목적 및 판판셀러 활용방안 등
C28: 5. 대표 상품 소개
C29: 업체명 | D29: 상품명 | F29: 가격 | G29: 할인가 | H29: 비고
C30: 중소상공인희망재단 | D30: 티셔츠 | F30: 30000 | G30: 15000 | H30: www.
H31: www.
H32: www.
H33: www.
H34: www.
C52: 선택(클릭) | E52: 선택(클릭) | F52: 선택(클릭) | G52: 선택(클릭) | H52: 선택(클릭)
E53: 서울시 | F53: 제조업 | G53: 0 | H53: 자체생산
E54: 부산시 | F54: 도매 및 소매업 | G54: 1 | H54: OEM
E55: 대구시 | F55: 도매업 | G55: 2 | H55: ODM
E56: 인천시 | F56: 소매업 | G56: 3 | H56: 사입
E57: 광주시 | F57: 서비스업 | G57: 4 | H57: 수입판매
E58: 대전시 | F58: 출판업 | G58: 5 | H58: 해외직구
E59: 울산시 | F59: 건설업 | G59: 6 | H59: 위탁판매
E60: 세종시 | F60: 광업 | G60: 7 | H60: 기타
E61: 경기도 | F61: 교육 서비스업 | G61: 8
E62: 강원도 | F62: 금융 및 보험업 | G62: 9
E63: 충청북도 | F63: 농업, 임업 및 어업 | G63: 10명 이상
E64: 충청남도 | F64: 보건업
E65: 전라북도 | F65: 보건업 및 사회복지 서비스업
E66: 전라남도 | F66: 부동산업
E67: 경상북도 | F67: 사회복지 서비스업
E68: 경상남도 | F68: 수도, 하수 및 폐기물 처리, 원료 재생업
E69: 제주도 | F69: 숙박 및 음식점업
F70: 숙박업
F71: 예술, 스포츠 및 여가관련 서비스업
F72: 운수 및 창고업
F73: 음식점업
F74: 전기, 가스, 증기 및 공기 조절 공급업
F75: 정보통신업
F76: 협회 및 단체, 수리 및 기타 개인 서비스업
F77: 기타

Sheet 개인(기업)정보동의서(공통)
C3: 개인(기업) 정보 수집·이용 및 제3자 제공 동의서 (사업명)
C4: 1. 개인(기업) 정보 수집·이용에 관한 사항
C5: ￭ 수집·이용 목적 | Q5: 출력 → 서명/날인 → 스캔
C6: 귀하의 개인정보는 『2023년 사업명 』 사업 운영·관리의 원할한 수행을 목적으로 수집·이용됩니다.
C7: ￭ 개인(기업)정보의 수집항목
C8: 신청서 및 기타 제출 서류에 기제된 내역 일체 : 성명, 생년월일, 사업자등록번호, 사업장 주소, 연락처 등
C9: 2023년 사업명 운영 및 성과 관리를 위한 매출 데이터 (참여 플랫폼/솔루션을 통해 발생한 매출)
C10: ￭ 보유 및 이용 기간
C11: 제공된 정보는 지원사업 운영·이력관리만을 위하여 보유·이용되며, 보존기간은 수집일로부터 5년입니다.
C12: 위 개인(기업)정보는 수집․이용,제3자제공에 관한 동의일로부터 보유목적 달성 시 또는 정보주체가 개인(기업)정보 삭제를 요청할 경우 파기합니다.
C13: ￭ 동의를 거부할 권리 및 동의를 거부할 경우의 불이익
C14: 위 개인(기업)정보의 수집·이용에 관한 동의는 본 사업의 수행을 위해 필수적이므로 이에 동의하셔야 이후 절차를 진행할 수 있습니다. 다만 동의하지 않으시는 경우 본 사업의 신청이 불가합니다.
C15: 개인정보 수집·이용에 동의하십니까?
C16: □ 동의 | I16: □ 비동의
C17: 2. 개인(기업)정보 제3자 제공에 관한 사항
C18: ￭ 개인(기업)정보의 수집·이용·제3자 제공 항목
C19: 신청서 및 기타 제출 서류에 기제된 내역 일체 : 성명, 생년월일, 사업자등록번호, 사업장 주소, 연락처 등
C20: 2023년 사업명 운영 및 성과 관리를 위한 매출 데이터 (참여 플랫폼/솔루션을 통해 발생한 매출)
C21: ￭ 개인(기업)정보의 제3자 제공(목적·내용·제공처) 안내
C22: 목적 : 『2023년 사업명』 운영‧관리, 만족도 및 성과조사, 사업 홍보 활용 등
C23: 내용 : 기업명, 대표자명, 주소, 연락처(전화번호, 이메일) 등 개인(기업) 정보 등
C24: 제공처 : 참여 사업별 수행사 (경쟁력강화: 카페24, 코끼리컴퍼니(디자인 대행사) / 판로확대: 사방넷, 지마켓 / O2O플랫폼 입점지원: 아이디어스/오아시스마켓/지그재그)
C25: ￭ 보유 및 이용 기간
C26: 제공된 정보는 지원사업 운영·이력 관리만을 위하여 보유·이용되며, 보존기간은 수집일로부터 5년입니다.
C27: 위 개인(기업)정보는 수집․이용, 제3자제공에 관한 동의일로부터 보유목적 달성 시 또는 정보주체가 개인(기업)정보 삭제를 요청할 경우 파기합니다.
C28: ￭ 동의를 거부할 권리 및 동의를 거부할 경우의 불이익
... C30: 개인정보 제3자 제공에 동의하십니까?
C31: □ 동의 | I31: □ 비동의
C32: 3. 사업 참여 제한 조치에 관한 확약
C33: ￭ 허위작성 및 자격조건 미달 시
C34: - 사업 참여 신청서 및 동의서 상 작성한 내용이 허위로 밝혀지거나 사업 자격조건에 미달될 경우 사업 참여가 제한될 수 있습니다.
C35: 사업 참여 제한 조치에 동의하십니까?
C36: □ 동의 | I36: □ 비동의
C37: 2023년 월 일
H38: 사업체명:
H39: 대표자명: | L39: (서명/인)
C41: 출력 → 서명/날인 → 스캔 또는 휴대폰으로 촬영 후 제출 가능

Sheet 데이터(삭제NoNo)
B2: 데이터 연동 시트
B3: 업종 | C3: 상시근로자 | D3: 특별/광역시/도 | E3: 생산방법
B4: 제조업 | C4: 0 | D4: 서울시 | E4: 자체생산
B5: 도매 및 소매업 | C5: 1 | D5: 부산시 | E5: OEM
B6: 도매업 | C6: 2 | D6: 대구시 | E6: ODM
B7: 소매업 | C7: 3 | D7: 인천시 | E7: 사입
B8: 서비스업 | C8: 4 | D8: 광주시 | E8: 수입판매
B9: 출판업 | C9: 5 | D9: 대전시 | E9: 해외직구
B10: 건설업 | C10: 6 | D10: 울산시 | E10: 위탁판매
B11: 광업 | C11: 7 | D11: 세종시 | E11: 기타
B12: 교육 서비스업 | C12: 8 | D12: 경기도
B13: 금융 및 보험업 | C13: 9 | D13: 강원도
B14: 농업, 임업 및 어업 | C14: 10명 이상 | D14: 충청북도
B15: 보건업 | D15: 충청남도
B16: 보건업 및 사회복지 서비스업 | D16: 전라북도
B17: 부동산업 | D17: 전라남도
B18: 사회복지 서비스업 | D18: 경상북도
B19: 수도, 하수 및 폐기물 처리, 원료 재생업 | D19: 경상남도
B20: 숙박 및 음식점업 | D20: 제주도
B21: 숙박업
B22: 예술, 스포츠 및 여가관련 서비스업
B23: 운수 및 창고업
B24: 음식점업
B25: 전기, 가스, 증기 및 공기 조절 공급업
B26: 정보통신업
B27: 협회 및 단체, 수리 및 기타 개인 서비스업
B28: 기타
