Workbook

Sheet 숏클립(전체)
B1: ■ 선정자 리스트 (2022년 소상공인 민관협업교육(네이버))
B2: No. | C2: 교육 희망지역 | D2: 사업체개요 | L2: 스토어현황 | P2: 라이브커머스 경험 | R2: 판매상품정보 | U2: 연락처 | X2: 교육수요 | Z2: 평가결과 | AB2: 서류제출 | AG2: 기타 | AI2: 비고
D3: 업체명 | E3: 대표자 | F3: 사업자번호 | G3: 소재지 | I3: 상세주소 | J3: 업종업태 | K3: 상시 근로자(명) | L3: 링크 | M3: 등급 | N3: 매출 (1~7월; 단위: 만원) | O3: 찜수(개) | P3: 유/무 | Q3: 채널/영상 | R3: 제품명 | S3: 제품분류 | T3: 사이트링크 | U3: 대표자 | V3: 비상연락망 | W3: 이메일 | X3: 희망지역 | Y3: 희망시간 | Z3: 점수 | AA3: 순위 | AB3: 사업자 | AC3: 소상공인 | AD3: 국세 | AE3: 지방세 | AF3: 동의서 | AG3: 분반 | AH3: 진행현황
G4: 특별시·도 | H4: 시·군·구
B5: 선정자 (서류평가 대상) * 지역+평가점수순
B6: 12 | C6: 서울 | D6: ROOG | E6: 정용환 | F6: 766-42-00696 | G6: 서울특별시 | H6: 구로구 | I6: (08306) 서울특별시 구로구 가마산로 242 (구로동, 희망재단) 4층 | J6: 도매 및 소매업 | K6: 0 | L6: https://smartstore.naver.com/roog | M6: 빅파워 | N6: 14363 | O6: 1068 | P6: X | R6: 흑마늘즙 | S6: 푸드 | T6: https://smartstore.naver.com/roog/products/5795104772 | U6: 010-5097-0227 | V6: 010-5112-3310 | W6: business.roog@gmail.com | X6: 서울 | Y6: 오전 | Z6: 85.5 | AA6: 1 | AG6: =IFERROR(IF(VLOOKUP('숏클립(전체)'!D6,#REF!,1,FALSE)=D6,"A반"),"B반") -> B반 | AH6: 포기신청 | AI6: 사업포기
B7: 37 | C7: 서울 | D7: 꿈드림 | E7: 이윤재 | F7: 566-87-00156 | G7: 경기도 | H7: 김포시 | I7: (10009) 경기도 김포시 통진읍 귀전로56번길 187 (통진읍) 농업회사법인(주)꿈드림 | J7: 제조업 | K7: 3 | L7: https://smartstore.naver.com/kkumdream | M7: 빅파워 | N7: 6255 | O7: 1301 | P7: O | R7: 꿈목장 저온살균 A2우유 | S7: 푸드 | T7: https://smartstore.naver.com/kkumdream/products/5364539743 | U7: 010-5236-5352 | V7: 070-8806-5352 | W7: dream14242@naver.com | X7: 서울 | Y7: 오후 | Z7: 84.5 | AA7: 2 | AB7: 참여o, 6시까지 | AG7: =IFERROR(IF(VLOOKUP('숏클립(전체)'!D7,#REF!,1,FALSE)=D7,"A반"),"B반") -> B반 | AH7: 참여희망 | AI7: 교육참석 (A반)
B8: 1 | C8: 서울 | D8: 나실패밀리 | E8: 서영원 | F8: 450-81-01770 | G8: 경기도 | H8: 부천시 | I8: (14662) 경기도 부천시 부일로 635 (역곡동, 부일빌딩) 2층, 3층 | J8: 제조업 | K8: 9 | L8: https://smartstore.naver.com/nasilfamily | M8: 빅파워 | N8: 37500 | O8: 25653 | P8: O | Q8: https://view.shoppinglive.naver.com/replays/647345?fm=shoppinglive&sn=home | R8: 트리플에스 샴푸 | S8: 뷰티 | T8: https://smartstore.naver.com/nasilfamily/products/5035409673 | U8: 010-8952-6936 | V8: 010-2137-3641 | W8: master@nasilfamily.com | X8: 서울 | Y8: 오후 | Z8: 83 | AA8: 3 | AB8: ㅇ | AC8: ㅇ | AD8: ㅇ | AE8: ㅇ | AF8: 재제출요청 | AG8: =IFERROR(IF(VLOOKUP('숏클립(전체)'!D8,#REF!,1,FALSE)=D8,"A반"),"B반") -> B반 | AH8: 보완중
B9: 69 | C9: 서울 | D9: 노씽 | E9: 이훈구 | F9: 779-86-02336 | G9: 경기도 | H9: 부천시 | I9: (14451) 경기도 부천시 삼정동 203-5 3층 (주)노씽 | J9: 제조업 | K9: 5 | L9: https://smartstore.naver.com/sscm | M9: 빅파워 | N9: 36400 | O9: 5099 | P9: X | R9: 발받침대 | S9: 라이프 | T9: https://smartstore.naver.com/sscm/products/5761936548 | U9: 010-3238-7142 | V9: - | W9: nothingwood@naver.com | X9: 서울 | Y9: 오전 | Z9: 81.25 | AA9: 4 | AB9: 참여o, 6시까지 | AG9: =IFERROR(IF(VLOOKUP('숏클립(전체)'!D9,#REF!,1,FALSE)=D9,"A반"),"B반") -> B반 | AH9: 참여희망 | AI9: 교육불참 (B반)
B10: 41 | C10: 서울 | D10: 뉴팜바이오 | E10: 이정석 | F10: 204-23-24772 | G10: 서울특별시 | H10: 관악구 | I10: (08743) 서울특별시 관악구 은천로 134 (봉천동, 디앤씨타운) B동 101호 | J10: 도매 및 소매업 | K10: 2 | L10: https://smartstore.naver.com/helperjang | M10: 파워 | N10: 3500 | O10: 5755 | P10: O | Q10: https://shoppinglive.naver.com/replays/485499?fm=shoppinglive&sn=home | R10: 강아지 고양이 유산균, 영양제 | S10: 라이프 | T10: https://smartstore.naver.com/helperjang/products/4659569212 | U10: 010-7999-9542 | V10: 070-8779-7007 | W10: nprobio@naver.com | X10: 서울 | Y10: 오전 | Z10: 80.5 | AA10: 5 | AB10: ㅇ | AC10: ㅇ | AD10: ㅇ | AE10: ㅇ | AF10: ㅇ | AG10: =IFERROR(IF(VLOOKUP('숏클립(전체)'!D10,#REF!,1,FALSE)=D10,"A반"),"B반") -> B반 | AH10: 검토완료 | AI10: 대표자 이정석, 신청당시 담당자 이름으로 신청
B11: 31 | C11: 서울 | D11: 다다다 | E11: 권용호 | F11: 614-20-01150 | G11: 경기도 | H11: 고양시 | I11: (10550) 경기도 고양시 덕양구 삼원로2길 14-6 (삼송동) 1층 1호 | J11: 도매 및 소매업 | K11: 2 | L11: https://smartstore.naver.com/blankfill | M11: 빅파워 | N11: 3500 | O11: 6553 | P11: O | Q11: https://naver.me/G6iWjC55 | R11: 오로라 와인잔 2p 세트 | S11: 라이프 | T11: https://m.smartstore.naver.com/blankfill/products/5635924302 | U11: 010-7250-1600 | V11: 010-7250-1600 | W11: dadadasell@naver.com | X11: 서울 | Y11: 오전 | Z11: 80.25 | AA11: 6 | AG11: =IFERROR(IF(VLOOKUP('숏클립(전체)'!D11,#REF!,1,FALSE)=D11,"A반"),"B반") -> B반 | AH11: 포기신청 | AI11: 사업포기
B12: 38 | C12: 서울 | D12: 다온미트 | E12: 김서영 | F12: 851-87-00544 | G12: 서울특별시 | H12: 동대문구 | I12: (02643) 서울특별시 동대문구 장한로10길 37 (장안동) 1층 | J12: 도매 및 소매업 | K12: 4 | L12: https://smartstore.naver.com/daonmeat | M12: 빅파워 | N12: 71000 | O12: 10032 | P12: O | Q12: https://shoppinglive.naver.com/channels/86900 | R12: 삼겹살 | S12: 푸드 | T12: https://smartstore.naver.com/daonmeat/products/6056271456 | U12: 010-3483-8284 | V12: 010-6218-8284 | W12: daonmeat01@naver.com | X12: 서울 | Y12: 오전 | Z12: 79.75 | AA12: 7 | AB12: ㅇ | AC12: ㅇ | AD12: ㅇ | AE12: ㅇ | AF12: ㅇ | AG12: =IFERROR(IF(VLOOKUP('숏클립(전체)'!D12,#REF!,1,FALSE)=D12,"A반"),"B반") -> B반 | AH12: 검토완료
B13: 75 | C13: 서울 | D13: 다주드 | E13: 최윤정 | F13: 446-16-00376 | G13: 인천광역시 | H13: 부평구 | I13: (21434) 인천광역시 부평구 아트센터로 118 (십정동, 동암신동아아파트) 107-701 | J13: 도매 및 소매업 | K13: 0 | L13: https://smartstore.naver.com/dajude | M13: 파워 | N13: 2598 | O13: 9039 | P13: O | Q13: https://view.shoppinglive.naver.com/liveclips/1685498?broadcastId=616481&fm=shopping&sn=prlim&tr=prlim | R13: 목걸이,귀걸이,울장갑 등 | S13: 패션 | T13: https://smartstore.naver.com/dajude/products/3684207472 | U13: 010-3741-7345 | V13: 010-9035-6215 | W13: dajudesilver@naver.com | X13: 서울 | Y13: 오전 | Z13: 79.5 | AA13: 8 | AB13: ㅇ | AD13: ㅇ | AE13: ㅇ | AF13: ㅇ | AG13: =IFERROR(IF(VLOOKUP('숏클립(전체)'!D13,#REF!,1,FALSE)=D13,"A반"),"B반") -> B반 | AH13: 보완중 | AI13: 소상공인확인서 미제출(제출연락)
B14: 30 | C14: 서울 | D14: 달당 | E14: 양자경 | F14: 558-45-00631 | G14: 경기도 | H14: 고양시 | I14: (10349) 경기도 고양시 일산서구 탄중로 501 (일산동, 일산5차동문아파트) 상가 106호 개달당 | J14: 제조업 | K14: 1 | L14: https://smartstore.naver.com/daldange | M14: 파워 | N14: 3400 | O14: 2268 | P14: O | Q14: https://shoppinglive.naver.com/replays/152849?fm=shoppinglive&sn=home | R14: 개달당 댕나잇 누빔 베개 | S14: 라이프 | T14: https://smartstore.naver.com/daldange/products/5411514087 | U14: 010-3525-1827 | V14: 010-6378-1827 | W14: daldange@naver.com | X14: 서울 | Y14: 오전 | Z14: 79.25 | AA14: 9 | AB14: ㅇ | AC14: ㅇ | AD14: ㅇ | AE14: ㅇ | AF14: ㅇ | AG14: =IFERROR(IF(VLOOKUP('숏클립(전체)'!D14,#REF!,1,FALSE)=D14,"A반"),"B반") -> B반 | AH14: 검토완료
B15: 70 | C15: 서울 | D15: 달소금 | E15: 오수린 | F15: 567-56-00209 | G15: 경기도 | H15: 여주시 | I15: (12642) 경기도 여주시 세종대왕면 중부대로 2710-26 (세종대왕면) 달소금 | J15: 도매 및 소매업 | K15: 1 | L15: https://smartstore.naver.com/dalsogum | M15: 파워 | N15: 4668 | O15: 5434 | P15: O | Q15: https://shoppinglive.naver.com/replays/627980?fm=shoppinglive&sn=home | R15: 기획소주잔(16color) | S15: 라이프 | T15: https://smartstore.naver.com/dalsogum/products/2883953422 | U15: 010-8280-2519 | V15: 031-882-9776 | W15: osurin2519@naver.com | X15: 서울 | Y15: 오후 | Z15: 79.25 | AA15: 10 | AB15: ㅇ | AC15: ㅇ | AD15: 재제출요청 | AE15: 재제출요청 | AF15: ㅇ | AG15: =IFERROR(IF(VLOOKUP('숏클립(전체)'!D15,#REF!,1,FALSE)=D15,"A반"),"B반") -> B반 | AH15: 보완중 | AI15: 납세증명서 유효기간만료
B16: 8 | C16: 서울 | D16: 달스네가게 | E16: 신고은 | F16: 205-43-98727 | G16: 경기도 | H16: 광명시 | I16: (14287) 경기도 광명시 광명로 877 (광명동, 한진아파트) 상가 B동 3층 2310호 | J16: 도매 및 소매업 | K16: - | L16: https://smartstore.naver.com/dals | M16: 빅파워 | N16: 13513 | O16: 8768 | P16: X | R16: 실리콘 조리도구 | S16: 라이프 | T16: https://smartstore.naver.com/dals/products/4342699514 | U16: 010-9654-3598 | V16: 010-9654-3598 | W16: sbbjjang@naver.com | X16: 서울 | Y16: 오전 | Z16: 79.25 | AA16: 11 | AB16: ㅇ | AC16: ㅇ | AD16: ㅇ | AE16: ㅇ | AF16: ㅇ | AG16: =IFERROR(IF(VLOOKUP('숏클립(전체)'!D16,#REF!,1,FALSE)=D16,"A반"),"B반") -> B반 | AH16: 검토완료
B17: 48 | C17: 서울 | D17: 더마초이스 | E17: 최용석 | F17: 759-23-01060 | G17: 서울특별시 | H17: 종로구 | I17: (03129) 서울특별시 종로구 김상옥로 18-10 (연지동, 성진에스제이빌딩) 301호 | J17: 도매 및 소매업 | K17: 4 | L17: https://smartstore.naver.com/bambimed | M17: 빅파워 | N17: 58429 | O17: 14635 | P17: X | R17: 화장품 | S17: 뷰티 | T17: https://smartstore.naver.com/bambimed/products/5531159627 | U17: 010-8599-0080 | V17: 010-8599-0080 | W17: cysprime@gmail.com | X17: 서울 | Y17: 오후 | Z17: 79 | AA17: 12 | AG17: =IFERROR(IF(VLOOKUP('숏클립(전체)'!D17,#REF!,1,FALSE)=D17,"A반"),"B반") -> B반 | AH17: 포기신청 | AI17: 사업포기
B18: 15 | C18: 서울 | D18: 데리다 | E18: 정은수 | F18: 878-28-00805 | G18: 서울특별시 | H18: 관악구 | I18: (08797) 서울특별시 관악구 인헌16길 12 (봉천동) 203호 | J18: 도매 및 소매업 | K18: 0 | L18: https://smartstore.naver.com/es_shop_ | M18: 파워 | N18: 5000 | O18: 3060 | P18: X | R18: 강아지 유모차 | S18: 라이프 | T18: https://smartstore.naver.com/es_shop_/products/4744014172 | U18: 010-8908-1918 | V18: 010-8908-1918 | W18: aeunsua@naver.com | X18: 서울 | Y18: 오전 | Z18: 79 | AA18: 13 | AB18: ㅇ | AC18: ㅇ | AD18: ㅇ | AE18: ㅇ | AF18: ㅇ | AG18: =IFERROR(IF(VLOOKUP('숏클립(전체)'!D18,#REF!,1,FALSE)=D18,"A반"),"B반") -> B반 | AH18: 검토완료
B19: 27 | C19: 서울 | D19: 데이빗앤케이트 | E19: 조동귶 | F19: 108-18-85706 | G19: 서울특별시 | H19: 강남구 | I19: (06164) 서울특별시 강남구 영동대로 513 (삼성동, 코엑스) 2층 상사전시장 A05 | J19: 도매 및 소매업 | K19: 2 | L19: https://smartstore.naver.com/littlebluelamb | M19: 파워 | N19: 8000 | O19: 6971 | P19: O | Q19: https://view.shoppinglive.naver.com/replays/354557?fm=shopping&sn=bsw | R19: 키즈 스키복 & 스키장갑 | S19: 키즈 | T19: https://smartstore.naver.com/littlebluelamb/products/2260023310 | U19: 010-3899-9351 | V19: - | W19: webmaster@davidandkate.co.kr | X19: 서울 | Y19: 오후 | Z19: 79 | AA19: 14 | AB19: ㅇ | AC19: ㅇ | AD19: ㅇ | AE19: ㅇ | AF19: ㅇ | AG19: =IFERROR(IF(VLOOKUP('숏클립(전체)'!D19,#REF!,1,FALSE)=D19,"A반"),"B반") -> B반 | AH19: 검토완료
B20: 66 | C20: 서울 | D20: 데일리꼬까 | E20: 김기열 | F20: 245-33-00810 | G20: 서울특별시 | H20: 중랑구 | I20: (02155) 서울특별시 중랑구 면목로 456 (면목동, 한성빌딩) 5층42호 | J20: 도매 및 소매업 | K20: 0 | L20: https://smartstore.naver.com/ggoggamoa | M20: 파워 | N20: 5309 | O20: 5396 | P20: O | Q20: https://shoppinglive.naver.com/livebridge/342032 | R20: 스판롱부츠 | S20: 키즈 | T20: https://smartstore.naver.com/ggoggamoa/products/5155290792 | U20: 010-2950-2957 | V20: 070-8064-4549 | W20: kiori21c@naver.com | X20: 서울 | Y20: 오후 | Z20: 78.75 | AA20: 15 | AB20: ㅇ | AC20: ㅇ | AD20: ㅇ | AE20: ㅇ | AF20: ㅇ | AG20: =IFERROR(IF(VLOOKUP('숏클립(전체)'!D20,#REF!,1,FALSE)=D20,"A반"),"B반") -> B반 | AH20: 검토완료
B21: 2 | C21: 서울 | D21: 드음 | E21: 천영 | F21: 454-31-00706 | G21: 서울특별시 | H21: 강동구 | I21: (05355) 서울특별시 강동구 천호대로 1139 (길동, 강동그린타워) 976호 | J21: 제조업 | K21: 2 | L21: https://smartstore.naver.com/purmifh | M21: 빅파워 | N21: 15270 | O21: 9331 | P21: O | Q21: https://shoppinglive.naver.com/replays/500238?fm=shoppinglive&sn=home | R21: 샐러드스쿨 이코노미팩 | S21: 푸드 | T21: https://smartstore.naver.com/purmifh/products/4734820267 | U21: 010-5550-2410 | V21: 010-3956-3110 | W21: young_cheon@naver.com | X21: 서울 | Y21: 오전 | Z21: 78.75 | AA21: 16 | AB21: ㅇ | AC21: ㅇ | AD21: ㅇ | AE21: ㅇ | AF21: ㅇ | AG21: =IFERROR(IF(VLOOKUP('숏클립(전체)'!D21,#REF!,1,FALSE)=D21,"A반"),"B반") -> B반 | AH21: 검토완료
B22: 85 | C22: 서울 | D22: 디아 | E22: 서은경 | F22: 101-12-38762 | G22: 서울특별시 | H22: 종로구 | I22: (03130) 서울특별시 종로구 종로 183 (인의동, 효성주얼리시티) J2138 | J22: 도매 및 소매업 | K22: 3 | L22: https://smartstore.naver.com/dia2138 | M22: 빅파워 | N22: 14119 | O22: 22229 | P22: O | R22: 신발 | S22: 패션 | T22: ※ 준비중 | U22: 010-5023-8486 | V22: 010-5362-6863 | W22: dia2138@naver.com | X22: 서울 | Y22: 오후 | Z22: 78.75 | AA22: 17 | AB22: ㅇ | AC22: ㅇ | AD22: ㅇ | AE22: ㅇ | AF22: ㅇ | AG22: =IFERROR(IF(VLOOKUP('숏클립(전체)'!D22,#REF!,1,FALSE)=D22,"A반"),"B반") -> B반 | AH22: 검토완료
B23: 46 | C23: 서울 | D23: 르메이어 | E23: 이정훈 | F23: 501-06-65191 | G23: 경기도 | H23: 오산시 | I23: (18105) 경기도 오산시 독산성로 425 (세교동) 퍼스트타워 1006호 | J23: 도매 및 소매업 | K23: - | L23: https://smartstore.naver.com/le-meilleur | M23: 파워 | N23: 5220 | O23: 1940 | P23: X | R23: 스프링 양모볼 장난감 | S23: 취미 | T23: https://smartstore.naver.com/le-meilleur/products/7048867843 | U23: 010-6236-1130 | V23: 010-8203-9216 | W23: yoon7174@naver.com | X23: 서울 | Y23: 오후 | Z23: 78.5 | AA23: 18 | AB23: ㅇ | AC23: ㅇ | AD23: ㅇ | AE23: ㅇ | AF23: ㅇ | AG23: =IFERROR(IF(VLOOKUP('숏클립(전체)'!D23,#REF!,1,FALSE)=D23,"A반"),"B반") -> B반 | AH23: 검토완료
B24: 3 | C24: 서울 | D24: 리틀그래피 | E24: 고민서 | F24: 808-29-00462 | G24: 서울특별시 | H24: 서대문구 | I24: (03615) 서울특별시 서대문구 통일로 510 (홍은동, 북한산더샵) 107동 202호 | J24: 도매 및 소매업 | K24: 0 | L24: https://smartstore.naver.com/littlegraphy | M24: 빅파워 | N24: 15421 | O24: 6397 | P24: O | Q24: https://view.shoppinglive.naver.com/replays/540838 | R24: 메가텐 전동칫솔 | S24: 라이프 | T24: https://smartstore.naver.com/littlegraphy/products/5772547712 | U24: 010-6691-7672 | V24: 050-7722-7672 | W24: kohminseo@gmail.com | X24: 서울 | Y24: 오전 | Z24: 78.5 | AA24: 19 | AB24: ㅇ | AC24: ㅇ | AD24: ㅇ | AE24: ㅇ | AF24: ㅇ | AG24: =IFERROR(IF(VLOOKUP('숏클립(전체)'!D24,#REF!,1,FALSE)=D24,"A반"),"B반") -> B반 | AH24: 검토완료
B25: 9 | C25: 서울 | D25: 마마스스튜디오 | E25: 김화경 | F25: 120-05-54300 | G25: 서울특별시 | H25: 구로구 | I25: (08362) 서울특별시 구로구 부광로 96-5 (항동) 구로에이스캠프 지식산업센터 1010호 | J25: 제조업 | K25: - | L25: https://smartstore.naver.com/mamasstudio | M25: 파워 | N25: 2229 | O25: 5513 | P25: O | Q25: https://view.shoppinglive.naver.com/replays/100876?fm=shopping&sn=bsw | R25: 수제토분,화분 | S25: 라이프 | T25: https://smartstore.naver.com/mamasstudio/products/5368674784 | U25: 010-4746-6361 | V25: - | W25: perfume76@naver.com | X25: 서울 | Y25: 오후 | Z25: 77.75 | AA25: 20 | AB25: 참여o, 6시까지 | AG25: =IFERROR(IF(VLOOKUP('숏클립(전체)'!D25,#REF!,1,FALSE)=D25,"A반"),"B반") -> B반 | AH25: 참여희망 | AI25: 교육불참 (B반), 출석햇다고함
B26: 55 | C26: 서울 | D26: 마이비쥬 | E26: 김경은 | F26: 779-10-01540 | G26: 서울특별시 | H26: 서대문구 | I26: (03652) 서울특별시 서대문구 연희로37안길 19-26 (홍은동, 나영힐빌리지) 302호 | J26: 도매 및 소매업 | K26: - | L26: https://smartstore.naver.com/mybijouu | M26: 파워 | N26: 4684 | O26: 2490 | P26: X | R26: 실버 및 브라스 악세사리 | S26: 패션 | T26: https://smartstore.naver.com/mybijouu/products/5395322703 | U26: 010-5515-1161 | V26: 010-8211-2754 | W26: alice4979@naver.com | X26: 서울 | Y26: 오후 | Z26: 77.5 | AA26: 21 | AB26: ㅇ | AC26: ㅇ | AE26: ㅇ | AF26: ㅇ | AG26: =IFERROR(IF(VLOOKUP('숏클립(전체)'!D26,#REF!,1,FALSE)=D26,"A반"),"B반") -> B반 | AH26: 보완중
B27: 56 | C27: 서울 | D27: 멜스키친 | E27: 최나리 | F27: 837-10-00468 | G27: 경기도 | H27: 성남시 | I27: (13640) 경기도 성남시 수정구 위례광장로 104 (창곡동, 위례 한화 오벨리스크 센트럴스퀘어) 1028호 | J27: 제조업 | K27: 0 | L27: https://smartstore.naver.com/melskitchen | M27: 파워 | N27: 2895 | O27: 1588 | P27: X | R27: 무설탕수제귀리통곡물 그래놀라 | S27: 푸드 | T27: https://smartstore.naver.com/melskitchen/products/391935454 | U27: 010-6241-8494 | V27: 070-7760-2959 | W27: harubang24@naver.com | X27: 서울 | Y27: 오전 | Z27: 77.5 | AA27: 22 | AB27: ㅇ | AC27: ㅇ | AD27: ㅇ | AE27: ㅇ | AF27: ㅇ | AG27: =IFERROR(IF(VLOOKUP('숏클립(전체)'!D27,#REF!,1,FALSE)=D27,"A반"),"B반") -> B반 | AH27: 검토완료
B28: 21 | C28: 서울 | D28: 모드니펫 | E28: 이다영 | F28: 343-13-00886 | G28: 경기도 | H28: 부천시 | I28: (14786) 경기도 부천시 양지로 237 (옥길동, 광양프런티어밸리 5차) 930호 | J28: 제조업 | K28: - | L28: https://smartstore.naver.com/mo-de-ny | M28: 빅파워 | N28: 18945 | O28: 10922 | P28: O | Q28: https://view.shoppinglive.naver.com/replays/577102 | R28: 클라우드 슬링백 | S28: 라이프 | T28: https://smartstore.naver.com/mo-de-ny/products/6619512344 | U28: 010-9942-8601 | V28: 010-2604-1055 | W28: manduuu_@naver.com | X28: 서울 | Y28: 오후 | Z28: 77.5 | AA28: 23 | AB28: ㅇ | AC28: ㅇ | AD28: 재제출요청 | AE28: 재제출요청 | AF28: ㅇ | AG28: =IFERROR(IF(VLOOKUP('숏클립(전체)'!D28,#REF!,1,FALSE)=D28,"A반"),"B반") -> B반 | AH28: 보완중 | AI28: 유효기간 만료
B29: 13 | C29: 서울 | D29: 모모 | E29: 이정돈 | F29: 813-09-02028 | G29: 인천광역시 | H29: 부평구 | I29: (21368) 인천광역시 부평구 원적로269번길 15 (산곡동, 현대아파트) 102동 1703호 | J29: 도매 및 소매업 | K29: 0 | L29: https://smartstore.naver.com/movesti | M29: 빅파워 | N29: 23000 | O29: 2960 | P29: X | R29: 모베스티 요가수트 | S29: 패션 | T29: https://smartstore.naver.com/movesti/products/5924679382 | U29: 010-9044-2259 | V29: 010-3378-0706 | W29: frogtail81@naver.com | X29: 서울 | Y29: 오후 | Z29: 77.25 | AA29: 24 | AB29: ㅇ | AD29: ㅇ | AE29: ㅇ | AF29: ㅇ | AG29: =IFERROR(IF(VLOOKUP('숏클립(전체)'!D29,#REF!,1,FALSE)=D29,"A반"),"B반") -> B반 | AH29: 보완중 | AI29: 소상공인확인서 양식 잘못제출 해외출장중이라 23일에 제출하기로 승인
B30: 89 | C30: 서울 | D30: 무발연구소 | E30: 문선영 | F30: 243-86-02104 | G30: 서울특별시 | H30: 광진구 | I30: (04940) 서울특별시 광진구 용마산로26길 11 (중곡동) . | J30: 제조업 | K30: 2 | L30: https://smartstore.naver.com/mubal2 | M30: 빅파워 | N30: 25194 | O30: 5790 | P30: X | R30: 무발 기능성깔창 일반형 | S30: 라이프 | T30: https://smartstore.naver.com/mubal2/products/4836229435 | U30: 010-8314-0027 | V30: 010-6290-8170 | W30: mubal@mubal.kr | X30: 서울 | Y30: 오후 | Z30: 77.25 | AA30: 25 | AB30: 참여o, 월까지 | AG30: =IFERROR(IF(VLOOKUP('숏클립(전체)'!D30,#REF!,1,FALSE)=D30,"A반"),"B반") -> B반 | AH30: 참여희망 | AI30: 교육참석 (B반)
B31: 67 | C31: 서울 | D31: 미랜 | E31: 유재순 | F31: 131-86-55410 | G31: 인천광역시 | H31: 남동구 | I31: (21639) 인천광역시 남동구 함박뫼로 396 (논현동, 남동시범공단) 3층 1호 | J31: 제조업 | K31: 9 | L31: https://smartstore.naver.com/milen0700 | M31: 파워 | N31: 8853 | O31: 3492 | P31: O | R31: 음식물처리기, 가스타이머 | S31: 테크 | T31: https://smartstore.naver.com/milen0700/products/5895656370 | U31: 010-9410-7891 | V31: 032-815-9167 | W31: milen@milen.co.kr | X31: 서울 | Y31: 오전 | Z31: 77 | AA31: 26 | AB31: ㅇ | AC31: ㅇ | AF31: ㅇ | AG31: =IFERROR(IF(VLOOKUP('숏클립(전체)'!D31,#REF!,1,FALSE)=D31,"A반"),"B반") -> B반 | AH31: 보완중 | AI31: 유효기간 만료
B32: 72 | C32: 서울 | D32: 바른커뮤니케이션 | E32: 이동호 | F32: 129-26-24356 | G32: 경기도 | H32: 용인시 | I32: (16837) 경기도 용인시 수지구 풍덕천로139번길 16-5 (풍덕천동, 선용빌딩) 2층 15호 | J32: 도매 및 소매업 | K32: - | L32: https://smartstore.naver.com/webazit | M32: 파워 | N32: 1600 | O32: 888 | P32: O | Q32: https://m.smartstore.naver.com/webazit/lives | R32: 스테인레스 욕조거름망 | S32: 라이프 | T32: https://smartstore.naver.com/webazit/products/5731224994 | U32: 010-8120-3571 | V32: 010-8369-3571 | W32: baruncomm@naver.com | X32: 서울 | Y32: 오전 | Z32: 76.75 | AA32: 27 | AB32: 참여o, 6시까지 | AG32: =IFERROR(IF(VLOOKUP('숏클립(전체)'!D32,#REF!,1,FALSE)=D32,"A반"),"B반") -> B반 | AH32: 참여희망 | AI32: 교육참석 (B반)
B33: 42 | C33: 서울 | D33: 바스몽 | E33: 유숙영 | F33: 854-17-01442 | G33: 인천광역시 | H33: 계양구 | I33: (21025) 인천광역시 계양구 계양산로 161 (임학동) 2층 | J33: 제조업 | K33: 1 | L33: https://smartstore.naver.com/bathmong.shop | M33: 파워 | N33: 9731 | O33: 4152 | P33: X | R33: 강아지입욕제 | S33: 라이프 | T33: https://smartstore.naver.com/bathmong/products/5231767675 https://smartstore.naver.com/bathmong/products/6740077221 | U33: 010-3396-2892 | V33: 070-7954-7540 | W33: bath_mong@naver.com | X33: 서울 | Y33: 오후 | Z33: 76.75 | AA33: 28 | AB33: ㅇ | AC33: ㅇ | AD33: ㅇ | AE33: ㅇ | AF33: ㅇ | AG33: =IFERROR(IF(VLOOKUP('숏클립(전체)'!D33,#REF!,1,FALSE)=D33,"A반"),"B반") -> B반 | AH33: 포기신청 | AI33: 사업포기
B34: 77 | C34: 서울 | D34: 반디랩 | E34: 김원희 | F34: 716-86-01694 | G34: 경기도 | H34: 고양시 | I34: (10364) 경기도 고양시 일산동구 고봉로 32-19 (장항동, 남정씨티프라자7차) 805호 | J34: 제조업 | K34: 4 | L34: https://smartstore.naver.com/vandilab | M34: 파워 | N34: 2000 | O34: 2734 | P34: O | Q34: https://shoppinglive.naver.com/replays/243404?fm=shoppinglive&sn=home | R34: 반디스트랩케이스, 반디딱 | S34: 라이프 | T34: https://smartstore.naver.com/vandilab/products/5327336178 | U34: 010-8779-8686 | V34: 031-911-0110 | W34: bywonny@naver.com | X34: 서울 | Y34: 오후 | Z34: 76.75 | AA34: 29 | AB34: 참여o, 6시까지 | AG34: =IFERROR(IF(VLOOKUP('숏클립(전체)'!D34,#REF!,1,FALSE)=D34,"A반"),"B반") -> B반 | AH34: 참여희망 | AI34: 교육참석 (B반)
B35: 6 | C35: 서울 | D35: 범표원두 | E35: 윤기선 | F35: 677-24-00539 | G35: 경기도 | H35: 구리시 | I35: (11901) 경기도 구리시 갈매순환로204번길 51-14 (갈매동) 1층 범표원두 | J35: 제조업 | K35: 3 | L35: https://smartstore.naver.com/uhung | M35: 빅파워 | N35: 17306 | O35: 6050 | P35: O | Q35: https://view.shoppinglive.naver.com/replays/649920 | R35: 범표 원두500g | S35: 푸드 | T35: https://smartstore.naver.com/uhung/products/4807118907 | U35: 010-9177-3071 | V35: 010-9105-7494 | W35: bumpyobeans@naver.com | X35: 서울 | Y35: 오전 | Z35: 76.5 | AA35: 30 | AB35: ㅇ | AC35: ㅇ | AD35: ㅇ | AE35: ㅇ | AF35: ㅇ | AG35: =IFERROR(IF(VLOOKUP('숏클립(전체)'!D35,#REF!,1,FALSE)=D35,"A반"),"B반") -> B반 | AH35: 검토완료
B36: 59 | C36: 서울 | D36: 베러투게더 | E36: 허수진 | F36: 620-86-00206 | G36: 경기도 | H36: 성남시 | I36: (13449) 경기도 성남시 수정구 대왕판교로 815 (시흥동, 판교창조경제밸리) 7층 715-2 | J36: 제조업 | K36: 9 | L36: https://smartstore.naver.com/betokorea | M36: 파워 | N36: 5400 | O36: 2636 | P36: X | R36: 알잠슈트 | S36: 키즈 | T36: https://smartstore.naver.com/betokorea/products/5594666692 | U36: 010-8623-9708 | V36: 010-8623-9708 | W36: suzie@goodnightbaby.org | X36: 서울 | Y36: 오후 | Z36: 76.25 | AA36: 31 | AB36: ㅇ | AC36: ㅇ | AD36: ㅇ | AE36: ㅇ | AF36: ㅇ | AG36: =IFERROR(IF(VLOOKUP('숏클립(전체)'!D36,#REF!,1,FALSE)=D36,"A반"),"B반") -> B반 | AH36: 검토완료
B37: 60 | C37: 서울 | D37: 베아티투도 | E37: 김동민 | F37: 565-17-01649 | G37: 서울특별시 | H37: 송파구 | I37: (05558) 서울특별시 송파구 백제고분로7길 41 (잠실동, NS파인트리) 612호 | J37: 도매 및 소매업 | K37: 0 | L37: https://smartstore.naver.com/beatitudo_with_you | M37: 파워 | N37: 5000 | O37: 736 | P37: O | Q37: https://tool.shoppinglive.naver.com/broadcasts/edit?id=547792&sortType=ALL | R37: 베아티투도 컵세척기 | S37: 라이프 | T37: https://smartstore.naver.com/beatitudo_with_you/products/6294030442 | U37: 010-5169-2681 | V37: - | W37: beatitudo_with_you@naver.com | X37: 서울 | Y37: 오후 | Z37: 76.25 | AA37: 32 | AB37: ㅇ | AC37: ㅇ | AD37: 재제출요청 | AE37: 재제출요청 | AF37: 재제출요청 | AG37: =IFERROR(IF(VLOOKUP('숏클립(전체)'!D37,#REF!,1,FALSE)=D37,"A반"),"B반") -> B반 | AH37: 보완중 | AI37: 유효기간 만료, 동의표시 안함
B38: 24 | C38: 서울 | D38: 블로그마케팅애드 | E38: 성준혁 | F38: 129-31-71061 | G38: 서울특별시 | H38: 마포구 | I38: (03987) 서울특별시 마포구 성미산로 104 (연남동) 세창빌딩 2층 | J38: 제조업 | K38: 2 | L38: https://smartstore.naver.com/appeshop/products/4879073780 | M38: 빅파워 | N38: 46000 | O38: 13483 | P38: O | Q38: https://shoppinglive.naver.com/channels/15092 | R38: 로디나트 파우치백팩 | S38: 패션 | T38: https://smartstore.naver.com/appeshop/products/4879073780 | U38: 010-9932-1029 | V38: 010-2953-2739 | W38: yangah2@naver.com | X38: 서울 | Y38: 오후 | Z38: 76.25 | AA38: 33 | AB38: ㅇ | AC38: ㅇ | AD38: ㅇ | AE38: ㅇ | AF38: ㅇ | AG38: =IFERROR(IF(VLOOKUP('숏클립(전체)'!D38,#REF!,1,FALSE)=D38,"A반"),"B반") -> B반 | AH38: 검토완료
B39: 10 | C39: 서울 | D39: 비글C&M | E39: 김재규 | F39: 105-20-51501 | G39: 서울특별시 | H39: 송파구 | I39: (05855) 서울특별시 송파구 법원로 92 (문정동, 파트너스1) 403호 | J39: 도매 및 소매업 | K39: - | L39: https://smartstore.naver.com/studiobeagle | M39: 빅파워 | N39: 15000 | O39: 7715 | P39: O | Q39: https://view.shoppinglive.naver.com/replays/71171?fm=shoppinglive&sn=home | R39: 플랫져키 | S39: 라이프 | T39: https://smartstore.naver.com/studiobeagle/products/2111302466 | U39: 010-9091-1562 | V39: 02-556-1562 | W39: jaekyuwow@gmail.com | X39: 서울 | Y39: 오전 | Z39: 76.25 | AA39: 34 | AB39: ㅇ | AC39: 재제출요청 | AD39: ㅇ | AE39: ㅇ | AF39: ㅇ | AG39: =IFERROR(IF(VLOOKUP('숏클립(전체)'!D39,#REF!,1,FALSE)=D39,"A반"),"B반") -> B반 | AH39: 보완중 | AI39: 소상공인확인서 기간만료(연락완료)
B40: 86 | C40: 서울 | D40: 비듀이 | E40: 권동일 | F40: 351-09-01569 | G40: 경기도 | H40: 김포시 | I40: (10099) 경기도 김포시 걸포2로 60 (걸포동, 한강메트로자이3단지) 304-1703 | J40: 도매 및 소매업 | K40: 0 | L40: https://smartstore.naver.com/newbreath | M40: 빅파워 | N40: 9100 | O40: 2075 | P40: X | R40: 비듀이 감성 디퓨저 7종 | S40: 라이프 | T40: https://smartstore.naver.com/newbreath/products/5544907931 | U40: 010-6478-9020 | V40: 070-7776-8223 | W40: nodage31@naver.com | X40: 서울 | Y40: 오전 | Z40: 76.25 | AA40: 35 | AB40: ㅇ | AC40: ㅇ | AD40: ㅇ | AE40: ㅇ | AF40: ㅇ | AG40: =IFERROR(IF(VLOOKUP('숏클립(전체)'!D40,#REF!,1,FALSE)=D40,"A반"),"B반") -> B반 | AH40: 검토완료
...

Sheet 소상공인 리스트
B1: ■ 소상공인 리스트
B2: No. | C2: 연도 | D2: 참여 사업명 | E2: 사업체 현황 | N2: 연락처 | S2: 판로현황 | W2: 대표상품 | AA2: 서류제출 | AD2: 평가결과 | AG2: 참여현황 | AH2: 특이사항
E3: 업체명 | F3: 대표자 | G3: 사업자번호 | H3: 업종 (업태) | I3: 상시 근로자 | J3: 소재지 | M3: 홈페이지/SNS | N3: 대표번호 | O3: 대표자 | Q3: 담당자 | S3: 판매채널(개) | U3: 매출액(원) | W3: 품목 | X3: 상품명 | Y3: 생산방법 (선택클릭) | Z3: 사이트링크 | AA3: 사업자 등록증 | AB3: 개인정보 동의서 | AC3: 참여 신청서 | AD3: 점수 | AE3: 순위 | AF3: 선정여부
J4: 특별시/광역시/도 (선택클릭) | K4: 시/군/구 | L4: 이하 주소 | O4: 휴대폰 | P4: 이메일 | Q4: 휴대폰 | R4: 이메일 | S4: 온라인 | T4: 오프라인 | U4: 전년도 | V4: 참여년도
B5: 1
B6: 2
B7: 3
B8: 4
B9: 5
B10: 6
B11: 7
B12: 8
B13: 9
B14: 10
B15: 11
B16: 12
... B154: 150

Sheet 신청서 양식(경쟁력강화)
C3: 2023년 경쟁력 강화 패키지 참여 신청서 (자사몰 구축 및 활성화)
C5: 1. 사업체 현황
C6: 기본현황 (사업자등록증) | D6: 업 체 명 | G6: 대표자명
D7: 사업자번호 | G7: 업종
D8: 사업장소재지 | E8: 선택(클릭) | F8: 시/군/구 | G8: 이하주소
D9: 상시 근로자수 | E9: 선택(클릭) | G9: 홈페이지/SNS
C10: 연락처 | D10: 대표자 | G10: 담당자 * 없을 경우 대표자만 입력
D11: 성명 | G11: 성명 및 직함
D12: 휴대폰 번호 | G12: 휴대폰 번호
D13: 이메일 | G13: 이메일
C15: 2. 사전 현황 조사
C16: 자사몰 보유 여부 | D16: 선택(클릭) | G16: 자사몰 주소 (보유 중인 경우)
C17: 자사몰 운영인력 현황/계획 | D17: 선택(클릭) | G17: 월평균 자사몰 매출 (보유 중인 경우) | H17: 선택(클릭)
C18: 온라인 판매 시작시점 | D18: 선택(클릭) | G18: 자사몰 이관 필요 여부 (보유 중인 경우) | H18: 선택(클릭)
C20: 3. 온라인 판로현황 * 채녈별 매출액은 전년도 대략적인 금액 기입
C21: 총 온라인 판매채널 | D21: 0
C22: 판매상품 종류 | D22: 0
C23: 대표 판매채널 | D23: 스마트스토어 | E23: G마켓
C24: 전년도 매출액 | D24: 00백만원 | E24: 00백만원
C25: 스토어 링크
C27: 4. 전년도 기업 매출액
C28: 0
C29: * 온오프라인 관계 없이 기업 매출 기입 * 손익계산서 매출 등 참조
C31: 5. 지원 배경 및 필요성 * 본 사업에 참여하고자 하는 배경과 필요한 이유
C34: 6. 참여 후 목표 * 자사몰 성장 목표 및 계획 등
C37: 7. 브랜드 및 대표 상품 소개
C38: 브랜드 소개 * 자사 브랜드 보유 시 작성 | D38: 브랜드 개요 | H38: 참고사진
D39: 브랜드 특장점
C40: 대표상품 1 | D40: 상품명 | G40: 소비자가(VAT포함) | K40: 가급적 낮은 용량 사진 사용 / 자세한 내용은 제품 사이트 링크를 통해 확인 예정
D41: 특장점 | K41: 사진 넣는 방법
D42: 사이트링크 | G42: 제조/유통방법 | H42: 선택(클릭)
D43: 제품 이미지 | G43: 제품 이미지
C44: 대표상품 2 | D44: 상품명 | G44: 소비자가(VAT포함)
D45: 특장점
D46: 사이트링크 | G46: 제조/유통방법 | H46: 선택(클릭)
D47: 제품 이미지 | G47: 제품 이미지
C48: 대표상품 3 | D48: 상품명 | G48: 소비자가(VAT포함)
D49: 특장점
D50: 사이트링크 | G50: 제조/유통방법 | H50: 선택(클릭)
D51: 제품 이미지 | G51: 제품 이미지
...

Sheet 신청서 양식(O2O)
C3: 2023년 O2O플랫폼 입점지원 참여 신청서
C5: 1. 참여 신청 플랫폼(앱) * 1개만 선택 가능 (박스칸 클릭)
C6: 플랫폼
C8: 2. 사업체 현황
C9: 기본현황 (사업자등록증) | D9: 업 체 명 | G9: 대표자명
D10: 사업자번호 | G10: 업종
D11: 사업장소재지 | E11: 선택(클릭) | F11: 시/군/구 | G11: 이하주소
D12: 상시 근로자수 | E12: 선택(클릭) | G12: 홈페이지/SNS
C13: 연락처 | D13: 대표자 | G13: 담당자 * 없을 경우 대표자만 입력
D14: 성명 | G14: 성명 및 직함
D15: 휴대폰 번호 | G15: 휴대폰 번호
D16: 이메일 | G16: 이메일
C18: 3. 온라인 판로현황 * 채녈별 매출액은 전년도 대략적인 금액 기입 | G18: 4. 전년도 기업 매출액 (단위: 원)
C19: 온라인 판매채널 수 | D19: 대표 채널별 연매출액 (스마트스토어, G마켓 등) | G19: 000,000,000원
D20: 스마트스토어
C21: 00개 | D21: 00백만원(전년도) | G21: * 온오프라인 관계 업이 기업 매출 기입 * 손익계산서 매출 등 참조
C23: 5. 참여 배경 및 목표 * 본 사업에 참여하고자 하는 배경과 얻고자 하는 목표를 상세히 기술 (600자 이내)
C26: 6. 대표상품 소개 (최대 2개)
C27: 대표상품 1 | D27: 상품명 | G27: 소비자가(VAT포함)
D28: 특장점
D29: 사이트링크 | G29: 제조/유통방법 | H29: 선택(클릭) | L29: 가급적 낮은 용량 사진 사용 / 자세한 내용은 제품 사이트 링크를 통해 확인 예정
D30: 제품사진 | G30: 제품사진 | L30: 사진 넣는 방법
C31: 대표상품 2 | D31: 상품명 | G31: 소비자가(VAT포함)
D32: 특장점
D33: 사이트링크 | G33: 제조/유통방법 | H33: 선택(클릭)
D34: 제품사진 | G34: 제품사진
C52: 선택(클릭) | E52: 선택(클릭) | F52: 선택(클릭) | G52: 선택(클릭) | H52: 선택(클릭)
E53: 서울시 | F53: 제조업 | G53: 0 | H53: 자체생산
E54: 부산시 | F54: 도매 및 소매업 | G54: 1 | H54: OEM
E55: 대구시 | F55: 도매업 | G55: 2 | H55: ODM
E56: 인천시 | F56: 소매업 | G56: 3 | H56: 사입
E57: 광주시 | F57: 서비스업 | G57: 4 | H57: 수입판매
E58: 대전시 | F58: 출판업 | G58: 5 | H58: 해외직구
E59: 울산시 | F59: 건설업 | G59: 6 | H59: 위탁판매
E60: 세종시 | F60: 광업 | G60: 7 | H60: 기타
E61: 경기도 | F61: 교육 서비스업 | G61: 8
E62: 강원도 | F62: 금융 및 보험업 | G62: 9
E63: 충청북도 | F63: 농업, 임업 및 어업 | G63: 10명 이상
E64: 충청남도 | F64: 보건업
E65: 전라북도 | F65: 보건업 및 사회복지 서비스업
...

Sheet 신청서 양식(판판셀러)
C3: 판판셀러 연계지원 신청서
C5: 1. 사업체 현황
C6: 기본현황 (사업자등록증 기준) | D6: 업 체 명 | G6: 대표자명
D7: 사업자번호 | E7: 000-00-00000 | G7: 업종 | H7: 선택(클릭)
D8: 사업장소재지 | E8: 선택(클릭)
D9: 상시 근로자수 | E9: 선택(클릭) | G9: 홈페이지/SNS
C10: 연락처 | D10: 대표자 | G10: 담당자 * 없을 경우 대표자만 입력
D11: 성명 | G11: 성명 및 직함
D12: 휴대폰 번호 | G12: 휴대폰 번호
D13: 이메일 | G13: 이메일
C16: 2. 온라인 판로현황 * 채녈별 매출액은 전년도 대략적인 금액 기입
C17: 현재 판매중인 온라인 채널 개수 | E17: 0개
C18: 대표 판매채널
C19: 전년도 매출액
C20: 스토어 링크
C22: 3. 전년도 기업 매출액 * 온오프라인 관계 없이 기업 매출 기입 * 손익계산서 매출 등 참조
C25: 4. 신청목적 * 본 사업에 참여하고자 하는 목적 및 판판셀러 활용방안 등
C28: 5. 대표 상품 소개
C29: 업체명 | D29: 상품명 | F29: 가격 | G29: 할인가 | H29: 비고
C30: 중소상공인희망재단 | D30: 티셔츠 | F30: 30000 | G30: 15000 | H30: www.
H31: www.
H32: www.
H33: www.
H34: www.
C52: 선택(클릭) | E52: 선택(클릭) | F52: 선택(클릭) | G52: 선택(클릭) | H52: 선택(클릭)
E53: 서울시 | F53: 제조업 | G53: 0 | H53: 자체생산
E54: 부산시 | F54: 도매 및 소매업 | G54: 1 | H54: OEM
E55: 대구시 | F55: 도매업 | G55: 2 | H55: ODM
E56: 인천시 | F56: 소매업 | G56: 3 | H56: 사입
E57: 광주시 | F57: 서비스업 | G57: 4 | H57: 수입판매
E58: 대전시 | F58: 출판업 | G58: 5 | H58: 해외직구
E59: 울산시 | F59: 건설업 | G59: 6 | H59: 위탁판매
E60: 세종시 | F60: 광업 | G60: 7 | H60: 기타
E61: 경기도 | F61: 교육 서비스업 | G61: 8
E62: 강원도 | F62: 금융 및 보험업 | G62: 9
E63: 충청북도 | F63: 농업, 임업 및 어업 | G63: 10명 이상
E64: 충청남도 | F64: 보건업
E65: 전라북도 | F65: 보건업 및 사회복지 서비스업
E66: 전라남도 | F66: 부동산업
E67: 경상북도 | F67: 사회복지 서비스업
...

Sheet 개인(기업)정보동의서(공통)
C3: 개인(기업) 정보 수집·이용 및 제3자 제공 동의서 (사업명)
C4: 1. 개인(기업) 정보 수집·이용에 관한 사항
C5: ￭ 수집·이용 목적 | Q5: 출력 → 서명/날인 → 스캔
C6: 귀하의 개인정보는 『2023년 사업명 』 사업 운영·관리의 원할한 수행을 목적으로 수집·이용됩니다.
C7: ￭ 개인(기업)정보의 수집항목
C8: 신청서 및 기타 제출 서류에 기제된 내역 일체 : 성명, 생년월일, 사업자등록번호, 사업장 주소, 연락처 등
C9: 2023년 사업명 운영 및 성과 관리를 위한 매출 데이터 (참여 플랫폼/솔루션을 통해 발생한 매출)
C10: ￭ 보유 및 이용 기간
C11: 제공된 정보는 지원사업 운영·이력관리만을 위하여 보유·이용되며, 보존기간은 수집일로부터 5년입니다.
C12: 위 개인(기업)정보는 수집․이용,제3자제공에 관한 동의일로부터 보유목적 달성 시 또는 정보주체가 개인(기업)정보 삭제를 요청할 경우 파기합니다.
C13: ￭ 동의를 거부할 권리 및 동의를 거부할 경우의 불이익
C14: 위 개인(기업)정보의 수집·이용에 관한 동의는 본 사업의 수행을 위해 필수적이므로 이에 동의하셔야 이후 절차를 진행할 수 있습니다. 다만 동의하지 않으시는 경우 본 사업의 신청이 불가합니다.
C15: 개인정보 수집·이용에 동의하십니까?
C16: □ 동의 | I16: □ 비동의
C17: 2. 개인(기업)정보 제3자 제공에 관한 사항
C18: ￭ 개인(기업)정보의 수집·이용·제3자 제공 항목
C19: 신청서 및 기타 제출 서류에 기제된 내역 일체 : 성명, 생년월일, 사업자등록번호, 사업장 주소, 연락처 등
C20: 2023년 사업명 운영 및 성과 관리를 위한 매출 데이터 (참여 플랫폼/솔루션을 통해 발생한 매출)
C21: ￭ 개인(기업)정보의 제3자 제공(목적·내용·제공처) 안내
C22: 목적 : 『2023년 사업명』 운영‧관리, 만족도 및 성과조사, 사업 홍보 활용 등
C23: 내용 : 기업명, 대표자명, 주소, 연락처(전화번호, 이메일) 등 개인(기업) 정보 등
C24: 제공처 : 참여 사업별 수행사 (경쟁력강화: 카페24, 코끼리컴퍼니(디자인 대행사) / 판로확대: 사방넷, 지마켓 / O2O플랫폼 입점지원: 아이디어스/오아시스마켓/지그재그)
C25: ￭ 보유 및 이용 기간
C26: 제공된 정보는 지원사업 운영·이력 관리만을 위하여 보유·이용되며, 보존기간은 수집일로부터 5년입니다.
C27: 위 개인(기업)정보는 수집․이용, 제3자제공에 관한 동의일로부터 보유목적 달성 시 또는 정보주체가 개인(기업)정보 삭제를 요청할 경우 파기합니다.
C28: ￭ 동의를 거부할 권리 및 동의를 거부할 경우의 불이익
... C30: 개인정보 제3자 제공에 동의하십니까?
C31: □ 동의 | I31: □ 비동의
C32: 3. 사업 참여 제한 조치에 관한 확약
C33: ￭ 허위작성 및 자격조건 미달 시
C34: - 사업 참여 신청서 및 동의서 상 작성한 내용이 허위로 밝혀지거나 사업 자격조건에 미달될 경우 사업 참여가 제한될 수 있습니다.
C35: 사업 참여 제한 조치에 동의하십니까?
C36: □ 동의 | I36: □ 비동의
C37: 2023년 월 일
H38: 사업체명:
H39: 대표자명: | L39: (서명/인)
C41: 출력 → 서명/날인 → 스캔 또는 휴대폰으로 촬영 후 제출 가능

Sheet 데이터(삭제NoNo)
B2: 데이터 연동 시트
B3: 업종 | C3: 상시근로자 | D3: 특별/광역시/도 | E3: 생산방법
B4: 제조업 | C4: 0 | D4: 서울시 | E4: 자체생산
B5: 도매 및 소매업 | C5: 1 | D5: 부산시 | E5: OEM
B6: 도매업 | C6: 2 | D6: 대구시 | E6: ODM
B7: 소매업 | C7: 3 | D7: 인천시 | E7: 사입
B8: 서비스업 | C8: 4 | D8: 광주시 | E8: 수입판매
B9: 출판업 | C9: 5 | D9: 대전시 | E9: 해외직구
B10: 건설업 | C10: 6 | D10: 울산시 | E10: 위탁판매
B11: 광업 | C11: 7 | D11: 세종시 | E11: 기타
B12: 교육 서비스업 | C12: 8 | D12: 경기도
B13: 금융 및 보험업 | C13: 9 | D13: 강원도
B14: 농업, 임업 및 어업 | C14: 10명 이상 | D14: 충청북도
B15: 보건업 | D15: 충청남도
B16: 보건업 및 사회복지 서비스업 | D16: 전라북도
B17: 부동산업 | D17: 전라남도
B18: 사회복지 서비스업 | D18: 경상북도
B19: 수도, 하수 및 폐기물 처리, 원료 재생업 | D19: 경상남도
B20: 숙박 및 음식점업 | D20: 제주도
B21: 숙박업
B22: 예술, 스포츠 및 여가관련 서비스업
B23: 운수 및 창고업
B24: 음식점업
B25: 전기, 가스, 증기 및 공기 조절 공급업
B26: 정보통신업
B27: 협회 및 단체, 수리 및 기타 개인 서비스업
B28: 기타
